Workbook

Sheet STUDENTS LIST
B1: WRITE YOUR SCHOOL NAME DOWN HERE…
C2: SCHOOL NUMBER St's number | D2: NAME St's name only or name and surname together | E2: SURNAME St's surname if not written in the NAME coloumn
B3: 1
B4: 2
B5: 3
B6: 4
B7: 5
B8: 6
B9: 7
B10: 8
B11: 9
B12: 10
B13: 11
B14: 12
... B52: 50

Sheet INLESSON PERFORMANCE EVALUATION
C1: ='STUDENTS LIST'!B1 -> WRITE YOUR SCHOOL NAME DOWN HERE… | L1: 2023-2024 ACADEMIC YEAR
B2: ENGLISH LESSON PERFORMANCE TASK EVALUATION FORM
B3: TEACHER
B4: CLASS | N4: DATE
C5: SCHOOL NUMBER | D5: NAME SURNAME | E5: Coming to class on time | F5: Having course materials | G5: Doing homework | H5: Being prepared for the subject | I5: Following the lesson carefully | J5: Participating actively in the lesson | K5: Being respectful to the teacher | L5: Respecting the opinions and rights of his/her friends | M5: Avoiding behavior that would disrupt the peace of the class | N5: Taking part in activities | O5: Using classroom equipment carefully | P5: Keeping the environment clean | Q5: Using language correctly and beautifully | R5: Critical thinking | S5: Relating topics to daily life | T5: Doing individual work | U5: Participating in group activities | V5: Ability to analyze and synthesize | W5: Willingness to listen to the lesson | X5: Fulfilling assigned tasks | Y5: TOTAL
E6: 5 | F6: 5 | G6: 5 | H6: 5 | I6: 5 | J6: 5 | K6: 5 | L6: 5 | M6: 5 | N6: 5 | O6: 5 | P6: 5 | Q6: 5 | R6: 5 | S6: 5 | T6: 5 | U6: 5 | V6: 5 | W6: 5 | X6: 5 | Y6: =SUM(E6:X6) -> 100
B7: 1 | C7: ='STUDENTS LIST'!C3 -> 0 | D7: ='STUDENTS LIST'!D3&" "&'STUDENTS LIST'!E3 | Y7: =SUM(E7:X7) -> 0
B8: 2 | C8: ='STUDENTS LIST'!C4 -> 0 | D8: ='STUDENTS LIST'!D4&" "&'STUDENTS LIST'!E4 | Y8: =SUM(E8:X8) -> 0
B9: 3 | C9: ='STUDENTS LIST'!C5 -> 0 | D9: ='STUDENTS LIST'!D5&" "&'STUDENTS LIST'!E5 | Y9: =SUM(E9:X9) -> 0
B10: 4 | C10: ='STUDENTS LIST'!C6 -> 0 | D10: ='STUDENTS LIST'!D6&" "&'STUDENTS LIST'!E6 | Y10: =SUM(E10:X10) -> 0
B11: 5 | C11: ='STUDENTS LIST'!C7 -> 0 | D11: ='STUDENTS LIST'!D7&" "&'STUDENTS LIST'!E7 | Y11: =SUM(E11:X11) -> 0
B12: 6 | C12: ='STUDENTS LIST'!C8 -> 0 | D12: ='STUDENTS LIST'!D8&" "&'STUDENTS LIST'!E8 | Y12: =SUM(E12:X12) -> 0
B13: 7 | C13: ='STUDENTS LIST'!C9 -> 0 | D13: ='STUDENTS LIST'!D9&" "&'STUDENTS LIST'!E9 | Y13: =SUM(E13:X13) -> 0
B14: 8 | C14: ='STUDENTS LIST'!C10 -> 0 | D14: ='STUDENTS LIST'!D10&" "&'STUDENTS LIST'!E10 | Y14: =SUM(E14:X14) -> 0
B15: 9 | C15: ='STUDENTS LIST'!C11 -> 0 | D15: ='STUDENTS LIST'!D11&" "&'STUDENTS LIST'!E11 | Y15: =SUM(E15:X15) -> 0
B16: 10 | C16: ='STUDENTS LIST'!C12 -> 0 | D16: ='STUDENTS LIST'!D12&" "&'STUDENTS LIST'!E12 | Y16: =SUM(E16:X16) -> 0
B17: 11 | C17: ='STUDENTS LIST'!C13 -> 0 | D17: ='STUDENTS LIST'!D13&" "&'STUDENTS LIST'!E13 | Y17: =SUM(E17:X17) -> 0
B18: 12 | C18: ='STUDENTS LIST'!C14 -> 0 | D18: ='STUDENTS LIST'!D14&" "&'STUDENTS LIST'!E14 | Y18: =SUM(E18:X18) -> 0
... B56: 50 | C56: ='STUDENTS LIST'!C52 -> 0 | D56: ='STUDENTS LIST'!D52&" "&'STUDENTS LIST'!E52 | Y56: =SUM(E56:X56) -> 0
B57: AVERAGE POINT PER STUDENT | E57: =AVERAGE(E7:E56) -> #DIV/0! | F57: =AVERAGE(F7:F56) -> #DIV/0! | G57: =AVERAGE(G7:G56) -> #DIV/0! | H57: =AVERAGE(H7:H56) -> #DIV/0! | I57: =AVERAGE(I7:I56) -> #DIV/0! | J57: =AVERAGE(J7:J56) -> #DIV/0! | K57: =AVERAGE(K7:K56) -> #DIV/0! | L57: =AVERAGE(L7:L56) -> #DIV/0! | ... X57: =AVERAGE(X7:X56) -> #DIV/0! | Y57: =AVERAGEIF(Y7:Y56,"<>0") -> #DIV/0!
