Workbook

Sheet KONTROL PANELİ
A1: KONTROL PANELİ
B2: EĞİTİM ÖĞRETİM YILI | G2: OKUL ADI
B3: 2024-2025 | G3: ….okulunuzun adı…
B5: DÖNEM | G5: SINIF ADI
B6: 1. DÖNEM | G6: ….sınıfınızın adı…
B8: ÖĞRETMENİN ADI SOYADI | G8: DERS ADI
B9: …adınız soyadınız… | G9: ….dersinizin adı…
C11: ÖĞRENCİ NUMARASI | D11: ÖĞRENCİ ADI SOYADI | G11: aşağıdaki hücrelere ödev değerlendirmenizde kullanmak istediğiniz kriterleri yazınız PERFORMANS GÖREVİ DEĞERLENDİRME KRİTERLERİ | M11: her bir kriter için puan değerini belirleyiniz PUAN DEĞERİ
B12: 1 | G12: Kriter 1 | M12: 20
B13: 2 | G13: Kriter 2 | M13: 20
B14: 3 | G14: Kriter 3 | M14: 20
B15: 4 | G15: Kriter 4 | M15: 20
B16: 5 | G16: Kriter 5 | M16: 20
B17: 6 | G17: TOPLAM | M17: =SUM(M12:N16) -> 100
B18: 7
B19: 8
B20: 9
B21: 10
B22: 11
B23: 12
B24: 13
B25: 14
B26: 15
B27: 16
B28: 17
B29: 18
... B51: 40

Sheet ÖDEV DEĞERLENDİRME ÖLÇEĞİ
D1: https://www.ingilizceodev.com/ | F1: https://www.instagram.com/ingilizceodevcom/
A2: ='KONTROL PANELİ'!B2&" "&"EĞİTİM ÖĞRETİM YILI"&" "&'KONTROL PANELİ'!G3&"" -> EĞİTİM ÖĞRETİM YILI EĞİTİM ÖĞRETİM YILI ….okulunuzun adı…
A3: ='KONTROL PANELİ'!G6&" "&"SINIFI"&" "&'KONTROL PANELİ'!G9&" "&"DERSİ"&" "&'KONTROL PANELİ'!B6&" "&"PERFORMANS GÖREVİ DEĞERLENDİRME ÇİZELGESİ" -> ….sınıfınızın adı… SINIFI ….dersinizin adı… DERSİ 1. DÖNEM PERFORMANS GÖREVİ DEĞERLENDİRME ÇİZELGESİ
A4: SIRA NO | B4: OKUL NO | C4: ÖĞRENCİNİN ADI-SOYADI | D4: ÖDEVİN KONUSU | E4: DEĞERLENDİRME KRİTERLERİ
E5: ='KONTROL PANELİ'!G12 -> Kriter 1 | F5: ='KONTROL PANELİ'!G13 -> Kriter 2 | G5: ='KONTROL PANELİ'!G14 -> Kriter 3 | H5: ='KONTROL PANELİ'!G15 -> Kriter 4 | I5: ='KONTROL PANELİ'!G16 -> Kriter 5 | J5: TOPLAM
E6: ='KONTROL PANELİ'!M12 -> 20 | F6: ='KONTROL PANELİ'!M13 -> 20 | G6: ='KONTROL PANELİ'!M14 -> 20 | H6: ='KONTROL PANELİ'!M15 -> 20 | I6: ='KONTROL PANELİ'!M16 -> 20 | J6: ='KONTROL PANELİ'!M17 -> 100
A7: 1 | B7: =IF('KONTROL PANELİ'!C12="","",'KONTROL PANELİ'!C12) | C7: =IF('KONTROL PANELİ'!D12="","",'KONTROL PANELİ'!D12) | J7: =IF(E7="","",E7+F7+G7+H7+I7)
A8: 2 | B8: =IF('KONTROL PANELİ'!C13="","",'KONTROL PANELİ'!C13) | C8: =IF('KONTROL PANELİ'!D13="","",'KONTROL PANELİ'!D13) | J8: =IF(E8="","",E8+F8+G8+H8+I8)
A9: 3 | B9: =IF('KONTROL PANELİ'!C14="","",'KONTROL PANELİ'!C14) | C9: =IF('KONTROL PANELİ'!D14="","",'KONTROL PANELİ'!D14) | J9: =IF(E9="","",E9+F9+G9+H9+I9)
A10: 4 | B10: =IF('KONTROL PANELİ'!C15="","",'KONTROL PANELİ'!C15) | C10: =IF('KONTROL PANELİ'!D15="","",'KONTROL PANELİ'!D15) | J10: =IF(E10="","",E10+F10+G10+H10+I10)
A11: 5 | B11: =IF('KONTROL PANELİ'!C16="","",'KONTROL PANELİ'!C16) | C11: =IF('KONTROL PANELİ'!D16="","",'KONTROL PANELİ'!D16) | J11: =IF(E11="","",E11+F11+G11+H11+I11)
A12: 6 | B12: =IF('KONTROL PANELİ'!C17="","",'KONTROL PANELİ'!C17) | C12: =IF('KONTROL PANELİ'!D17="","",'KONTROL PANELİ'!D17) | J12: =IF(E12="","",E12+F12+G12+H12+I12)
A13: 7 | B13: =IF('KONTROL PANELİ'!C18="","",'KONTROL PANELİ'!C18) | C13: =IF('KONTROL PANELİ'!D18="","",'KONTROL PANELİ'!D18) | J13: =IF(E13="","",E13+F13+G13+H13+I13)
A14: 8 | B14: =IF('KONTROL PANELİ'!C19="","",'KONTROL PANELİ'!C19) | C14: =IF('KONTROL PANELİ'!D19="","",'KONTROL PANELİ'!D19) | J14: =IF(E14="","",E14+F14+G14+H14+I14)
A15: 9 | B15: =IF('KONTROL PANELİ'!C20="","",'KONTROL PANELİ'!C20) | C15: =IF('KONTROL PANELİ'!D20="","",'KONTROL PANELİ'!D20) | J15: =IF(E15="","",E15+F15+G15+H15+I15)
A16: 10 | B16: =IF('KONTROL PANELİ'!C21="","",'KONTROL PANELİ'!C21) | C16: =IF('KONTROL PANELİ'!D21="","",'KONTROL PANELİ'!D21) | J16: =IF(E16="","",E16+F16+G16+H16+I16)
A17: 11 | B17: =IF('KONTROL PANELİ'!C22="","",'KONTROL PANELİ'!C22) | C17: =IF('KONTROL PANELİ'!D22="","",'KONTROL PANELİ'!D22) | J17: =IF(E17="","",E17+F17+G17+H17+I17)
A18: 12 | B18: =IF('KONTROL PANELİ'!C23="","",'KONTROL PANELİ'!C23) | C18: =IF('KONTROL PANELİ'!D23="","",'KONTROL PANELİ'!D23) | J18: =IF(E18="","",E18+F18+G18+H18+I18)
... A46: 40 | B46: =IF('KONTROL PANELİ'!C51="","",'KONTROL PANELİ'!C51) | C46: =IF('KONTROL PANELİ'!D51="","",'KONTROL PANELİ'!D51) | J46: =IF(E46="","",E46+F46+G46+H46+I46)
C49: ='KONTROL PANELİ'!B9 -> …adınız soyadınız…
C50: ='KONTROL PANELİ'!G9&" "&"DERSİ ÖĞRETMENİ" -> ….dersinizin adı… DERSİ ÖĞRETMENİ
D52: https://www.ingilizceodev.com/ | F52: https://www.instagram.com/ingilizceodevcom/
