Workbook

Sheet PROJE ÖDEV LİSTESİ
A1: 2025 – 2026 EĞİTİM-ÖĞRETİM YILI …................. ANADOLU LİSESİ İNGİLİZCE DERSİ PROJE GÖREVİ TAKİP ÇİZELGESİ
A2: Dersin Adı | F2: Ders Öğretmeni
A3: SIRA NO | B3: SINIF | C3: OKUL NO | D3: ADI SOYADI | E3: ÖDEVİN VERİLDİĞİ TARİH | F3: ÖDEVİN SON TESLİM TARİHİ | G3: ÖDEVİN KONUSU | H3: ÖĞRENCİ İMZA
A4: 1
A5: 2
A6: 3
A7: 4
A8: 5
A9: 6
A10: 7
A11: 8
A12: 9
A13: 10
A15: HAZIRLIK VE ALIŞTIRMA ÇALIŞMALARI | E15: Yapıldığı Tarih | G15: DEĞERLENDİRME KRİTERLERİ | H15: Puan Değeri
A16: 1. Kontrol | E16: 46036 | G16: Proje hazırlama planı yapması ve uygulama başarısı Kendini geliştirmek amacıyla ödevi bizzat yapması ve çabası | H16: 20
A17: 2. Kontrol | E17: 46071 | G17: Projeyi hazırlarken öğretmeniyle diyalog kurması ve belirlenen tarihlerde kontrol ettirmesi | H17: 20
A18: Proje Teslimi | E18: 46122 | G18: Projenin doğruluk ve kullanılabilirlik derecesi, bilgi, anlam ve örneklemelerin yeterliliği | H18: 20
G19: Projenin yazım ve dilin özel kurallarına uygunluğu | H19: 20
G20: Düzgün ifade kullanma ve anlaşılabilirlik | H20: 20
G21: TOPLAM | H21: =SUM(H16:H20) -> 100

Sheet ÖĞR 1&2
A1: ='PROJE ÖDEV LİSTESİ'!A1:H1 -> 2025 – 2026 EĞİTİM-ÖĞRETİM YILI …................. ANADOLU LİSESİ İNGİLİZCE DERSİ PROJE GÖREVİ TAKİP ÇİZELGESİ | E1: ='PROJE ÖDEV LİSTESİ'!A1 -> 2025 – 2026 EĞİTİM-ÖĞRETİM YILI …................. ANADOLU LİSESİ İNGİLİZCE DERSİ PROJE GÖREVİ TAKİP ÇİZELGESİ
A2: Dersin Adı | B2: ='PROJE ÖDEV LİSTESİ'!D2 -> 0 | C2: Öğretmen İmza | E2: Dersin Adı | F2: ='PROJE ÖDEV LİSTESİ'!D2 -> 0 | G2: Öğretmen İmza
A3: Ders Öğretmeni | B3: ='PROJE ÖDEV LİSTESİ'!G2 -> 0 | E3: Ders Öğretmeni | F3: ='PROJE ÖDEV LİSTESİ'!G2 -> 0
A4: Öğrencinin Sınıfı | B4: ='PROJE ÖDEV LİSTESİ'!B4 -> 0 | C4: Öğrenci İmza | E4: Öğrencinin Sınıfı | F4: ='PROJE ÖDEV LİSTESİ'!B5 -> 0 | G4: Öğrenci İmza
A5: Öğrencinin Adı-Soyadı | B5: ='PROJE ÖDEV LİSTESİ'!D4 -> 0 | E5: Öğrencinin Adı-Soyadı | F5: ='PROJE ÖDEV LİSTESİ'!D5 -> 0
A6: Öğrencinin No’su | B6: ='PROJE ÖDEV LİSTESİ'!C4 -> 0 | E6: Öğrencinin No’su | F6: ='PROJE ÖDEV LİSTESİ'!C5 -> 0
A7: Ödevin Verildiği Tarih | B7: ='PROJE ÖDEV LİSTESİ'!E4 -> 0 | E7: Ödevin Verildiği Tarih | F7: ='PROJE ÖDEV LİSTESİ'!E5 -> 0
A8: Ödevin Son Teslim Tarihi | B8: ='PROJE ÖDEV LİSTESİ'!F4 -> 0 | E8: Ödevin Son Teslim Tarihi | F8: ='PROJE ÖDEV LİSTESİ'!F5 -> 0
A9: Ödevin Konusu | B9: ='PROJE ÖDEV LİSTESİ'!G4 -> 0 | E9: Ödevin Konusu | F9: ='PROJE ÖDEV LİSTESİ'!G5 -> 0
A11: HAZIRLIK VE ALIŞTIRMA ÇALIŞMALARI | B11: Yapıldığı Tarih | C11: İmza | E11: HAZIRLIK VE ALIŞTIRMA ÇALIŞMALARI | F11: Yapıldığı Tarih | G11: İmza
A12: 1. Kontrol | B12: ='PROJE ÖDEV LİSTESİ'!E16 -> 46036 | E12: 1. Kontrol | F12: ='PROJE ÖDEV LİSTESİ'!E16 -> 46036
A13: 2. Kontrol | B13: ='PROJE ÖDEV LİSTESİ'!E17 -> 46071 | E13: 2. Kontrol | F13: ='PROJE ÖDEV LİSTESİ'!E17 -> 46071
A14: Proje Teslimi | B14: ='PROJE ÖDEV LİSTESİ'!E18 -> 46122 | E14: Proje Teslimi | F14: ='PROJE ÖDEV LİSTESİ'!E18 -> 46122
A16: DEĞERLENDİRME KRİTERLERİ | B16: Puan Değeri | C16: Değerlendirme Puanı | E16: DEĞERLENDİRME KRİTERLERİ | F16: Puan Değeri | G16: Değerlendirme Puanı
A17: ='PROJE ÖDEV LİSTESİ'!G16 -> Proje hazırlama planı yapması ve uygulama başarısı Kendini geliştirmek amacıyla ödevi bizzat yapması ve çabası | B17: ='PROJE ÖDEV LİSTESİ'!H16 -> 20 | E17: ='PROJE ÖDEV LİSTESİ'!G16 -> Proje hazırlama planı yapması ve uygulama başarısı Kendini geliştirmek amacıyla ödevi bizzat yapması ve çabası | F17: ='PROJE ÖDEV LİSTESİ'!H16 -> 20
A18: ='PROJE ÖDEV LİSTESİ'!G17 -> Projeyi hazırlarken öğretmeniyle diyalog kurması ve belirlenen tarihlerde kontrol ettirmesi | B18: ='PROJE ÖDEV LİSTESİ'!H17 -> 20 | E18: ='PROJE ÖDEV LİSTESİ'!G17 -> Projeyi hazırlarken öğretmeniyle diyalog kurması ve belirlenen tarihlerde kontrol ettirmesi | F18: ='PROJE ÖDEV LİSTESİ'!H17 -> 20
A19: ='PROJE ÖDEV LİSTESİ'!G18 -> Projenin doğruluk ve kullanılabilirlik derecesi, bilgi, anlam ve örneklemelerin yeterliliği | B19: ='PROJE ÖDEV LİSTESİ'!H18 -> 20 | E19: ='PROJE ÖDEV LİSTESİ'!G18 -> Projenin doğruluk ve kullanılabilirlik derecesi, bilgi, anlam ve örneklemelerin yeterliliği | F19: ='PROJE ÖDEV LİSTESİ'!H18 -> 20
A20: ='PROJE ÖDEV LİSTESİ'!G19 -> Projenin yazım ve dilin özel kurallarına uygunluğu | B20: ='PROJE ÖDEV LİSTESİ'!H19 -> 20 | E20: ='PROJE ÖDEV LİSTESİ'!G19 -> Projenin yazım ve dilin özel kurallarına uygunluğu | F20: ='PROJE ÖDEV LİSTESİ'!H19 -> 20
A21: ='PROJE ÖDEV LİSTESİ'!G20 -> Düzgün ifade kullanma ve anlaşılabilirlik | B21: ='PROJE ÖDEV LİSTESİ'!H20 -> 20 | E21: ='PROJE ÖDEV LİSTESİ'!G20 -> Düzgün ifade kullanma ve anlaşılabilirlik | F21: ='PROJE ÖDEV LİSTESİ'!H20 -> 20
A22: TOPLAM | B22: ='PROJE ÖDEV LİSTESİ'!H21 -> 100 | C22: =SUM(C17:C21) -> 0 | E22: TOPLAM | F22: ='PROJE ÖDEV LİSTESİ'!H21 -> 100 | G22: =SUM(G17:G21) -> 0

Sheet ÖĞR 3&4
A1: ='PROJE ÖDEV LİSTESİ'!A1:H1 -> 2025 – 2026 EĞİTİM-ÖĞRETİM YILI …................. ANADOLU LİSESİ İNGİLİZCE DERSİ PROJE GÖREVİ TAKİP ÇİZELGESİ | E1: ='PROJE ÖDEV LİSTESİ'!A1 -> 2025 – 2026 EĞİTİM-ÖĞRETİM YILI …................. ANADOLU LİSESİ İNGİLİZCE DERSİ PROJE GÖREVİ TAKİP ÇİZELGESİ
A2: Dersin Adı | B2: ='PROJE ÖDEV LİSTESİ'!D2 -> 0 | C2: Öğretmen İmza | E2: Dersin Adı | F2: ='PROJE ÖDEV LİSTESİ'!D2 -> 0 | G2: Öğretmen İmza
A3: Ders Öğretmeni | B3: ='PROJE ÖDEV LİSTESİ'!G2 -> 0 | E3: Ders Öğretmeni | F3: ='PROJE ÖDEV LİSTESİ'!G2 -> 0
A4: Öğrencinin Sınıfı | B4: ='PROJE ÖDEV LİSTESİ'!B6 -> 0 | C4: Öğrenci İmza | E4: Öğrencinin Sınıfı | F4: ='PROJE ÖDEV LİSTESİ'!B7 -> 0 | G4: Öğrenci İmza
A5: Öğrencinin Adı-Soyadı | B5: ='PROJE ÖDEV LİSTESİ'!D6 -> 0 | E5: Öğrencinin Adı-Soyadı | F5: ='PROJE ÖDEV LİSTESİ'!D7 -> 0
A6: Öğrencinin No’su | B6: ='PROJE ÖDEV LİSTESİ'!C6 -> 0 | E6: Öğrencinin No’su | F6: ='PROJE ÖDEV LİSTESİ'!C7 -> 0
A7: Ödevin Verildiği Tarih | B7: ='PROJE ÖDEV LİSTESİ'!E6 -> 0 | E7: Ödevin Verildiği Tarih | F7: ='PROJE ÖDEV LİSTESİ'!E7 -> 0
A8: Ödevin Son Teslim Tarihi | B8: ='PROJE ÖDEV LİSTESİ'!F6 -> 0 | E8: Ödevin Son Teslim Tarihi | F8: ='PROJE ÖDEV LİSTESİ'!F7 -> 0
A9: Ödevin Konusu | B9: ='PROJE ÖDEV LİSTESİ'!G6 -> 0 | E9: Ödevin Konusu | F9: ='PROJE ÖDEV LİSTESİ'!G7 -> 0
A11: HAZIRLIK VE ALIŞTIRMA ÇALIŞMALARI | B11: Yapıldığı Tarih | C11: İmza | E11: HAZIRLIK VE ALIŞTIRMA ÇALIŞMALARI | F11: Yapıldığı Tarih | G11: İmza
A12: 1. Kontrol | B12: ='PROJE ÖDEV LİSTESİ'!E16 -> 46036 | E12: 1. Kontrol | F12: ='PROJE ÖDEV LİSTESİ'!E16 -> 46036
A13: 2. Kontrol | B13: ='PROJE ÖDEV LİSTESİ'!E17 -> 46071 | E13: 2. Kontrol | F13: ='PROJE ÖDEV LİSTESİ'!E17 -> 46071
A14: Proje Teslimi | B14: ='PROJE ÖDEV LİSTESİ'!E18 -> 46122 | E14: Proje Teslimi | F14: ='PROJE ÖDEV LİSTESİ'!E18 -> 46122
A16: DEĞERLENDİRME KRİTERLERİ | B16: Puan Değeri | C16: Değerlendirme Puanı | E16: DEĞERLENDİRME KRİTERLERİ | F16: Puan Değeri | G16: Değerlendirme Puanı
A17: ='PROJE ÖDEV LİSTESİ'!G16 -> Proje hazırlama planı yapması ve uygulama başarısı Kendini geliştirmek amacıyla ödevi bizzat yapması ve çabası | B17: ='PROJE ÖDEV LİSTESİ'!H16 -> 20 | E17: ='PROJE ÖDEV LİSTESİ'!G16 -> Proje hazırlama planı yapması ve uygulama başarısı Kendini geliştirmek amacıyla ödevi bizzat yapması ve çabası | F17: ='PROJE ÖDEV LİSTESİ'!H16 -> 20
A18: ='PROJE ÖDEV LİSTESİ'!G17 -> Projeyi hazırlarken öğretmeniyle diyalog kurması ve belirlenen tarihlerde kontrol ettirmesi | B18: ='PROJE ÖDEV LİSTESİ'!H17 -> 20 | E18: ='PROJE ÖDEV LİSTESİ'!G17 -> Projeyi hazırlarken öğretmeniyle diyalog kurması ve belirlenen tarihlerde kontrol ettirmesi | F18: ='PROJE ÖDEV LİSTESİ'!H17 -> 20
A19: ='PROJE ÖDEV LİSTESİ'!G18 -> Projenin doğruluk ve kullanılabilirlik derecesi, bilgi, anlam ve örneklemelerin yeterliliği | B19: ='PROJE ÖDEV LİSTESİ'!H18 -> 20 | E19: ='PROJE ÖDEV LİSTESİ'!G18 -> Projenin doğruluk ve kullanılabilirlik derecesi, bilgi, anlam ve örneklemelerin yeterliliği | F19: ='PROJE ÖDEV LİSTESİ'!H18 -> 20
A20: ='PROJE ÖDEV LİSTESİ'!G19 -> Projenin yazım ve dilin özel kurallarına uygunluğu | B20: ='PROJE ÖDEV LİSTESİ'!H19 -> 20 | E20: ='PROJE ÖDEV LİSTESİ'!G19 -> Projenin yazım ve dilin özel kurallarına uygunluğu | F20: ='PROJE ÖDEV LİSTESİ'!H19 -> 20
A21: ='PROJE ÖDEV LİSTESİ'!G20 -> Düzgün ifade kullanma ve anlaşılabilirlik | B21: ='PROJE ÖDEV LİSTESİ'!H20 -> 20 | E21: ='PROJE ÖDEV LİSTESİ'!G20 -> Düzgün ifade kullanma ve anlaşılabilirlik | F21: ='PROJE ÖDEV LİSTESİ'!H20 -> 20
A22: TOPLAM | B22: ='PROJE ÖDEV LİSTESİ'!H21 -> 100 | C22: =SUM(C17:C21) -> 0 | E22: TOPLAM | F22: ='PROJE ÖDEV LİSTESİ'!H21 -> 100 | G22: =SUM(G17:G21) -> 0

Sheet ÖĞR 5&6
A1: ='PROJE ÖDEV LİSTESİ'!A1:H1 -> 2025 – 2026 EĞİTİM-ÖĞRETİM YILI …................. ANADOLU LİSESİ İNGİLİZCE DERSİ PROJE GÖREVİ TAKİP ÇİZELGESİ | E1: ='PROJE ÖDEV LİSTESİ'!A1 -> 2025 – 2026 EĞİTİM-ÖĞRETİM YILI …................. ANADOLU LİSESİ İNGİLİZCE DERSİ PROJE GÖREVİ TAKİP ÇİZELGESİ
A2: Dersin Adı | B2: ='PROJE ÖDEV LİSTESİ'!D2 -> 0 | C2: Öğretmen İmza | E2: Dersin Adı | F2: ='PROJE ÖDEV LİSTESİ'!D2 -> 0 | G2: Öğretmen İmza
A3: Ders Öğretmeni | B3: ='PROJE ÖDEV LİSTESİ'!G2 -> 0 | E3: Ders Öğretmeni | F3: ='PROJE ÖDEV LİSTESİ'!G2 -> 0
A4: Öğrencinin Sınıfı | B4: ='PROJE ÖDEV LİSTESİ'!B8 -> 0 | C4: Öğrenci İmza | E4: Öğrencinin Sınıfı | F4: ='PROJE ÖDEV LİSTESİ'!B9 -> 0 | G4: Öğrenci İmza
A5: Öğrencinin Adı-Soyadı | B5: ='PROJE ÖDEV LİSTESİ'!D8 -> 0 | E5: Öğrencinin Adı-Soyadı | F5: ='PROJE ÖDEV LİSTESİ'!D9 -> 0
A6: Öğrencinin No’su | B6: ='PROJE ÖDEV LİSTESİ'!C8 -> 0 | E6: Öğrencinin No’su | F6: ='PROJE ÖDEV LİSTESİ'!C9 -> 0
A7: Ödevin Verildiği Tarih | B7: ='PROJE ÖDEV LİSTESİ'!E8 -> 0 | E7: Ödevin Verildiği Tarih | F7: ='PROJE ÖDEV LİSTESİ'!E9 -> 0
A8: Ödevin Son Teslim Tarihi | B8: ='PROJE ÖDEV LİSTESİ'!F8 -> 0 | E8: Ödevin Son Teslim Tarihi | F8: ='PROJE ÖDEV LİSTESİ'!F9 -> 0
A9: Ödevin Konusu | B9: ='PROJE ÖDEV LİSTESİ'!G8 -> 0 | E9: Ödevin Konusu | F9: ='PROJE ÖDEV LİSTESİ'!G9 -> 0
A11: HAZIRLIK VE ALIŞTIRMA ÇALIŞMALARI | B11: Yapıldığı Tarih | C11: İmza | E11: HAZIRLIK VE ALIŞTIRMA ÇALIŞMALARI | F11: Yapıldığı Tarih | G11: İmza
A12: 1. Kontrol | B12: ='PROJE ÖDEV LİSTESİ'!E16 -> 46036 | E12: 1. Kontrol | F12: ='PROJE ÖDEV LİSTESİ'!E16 -> 46036
A13: 2. Kontrol | B13: ='PROJE ÖDEV LİSTESİ'!E17 -> 46071 | E13: 2. Kontrol | F13: ='PROJE ÖDEV LİSTESİ'!E17 -> 46071
A14: Proje Teslimi | B14: ='PROJE ÖDEV LİSTESİ'!E18 -> 46122 | E14: Proje Teslimi | F14: ='PROJE ÖDEV LİSTESİ'!E18 -> 46122
A16: DEĞERLENDİRME KRİTERLERİ | B16: Puan Değeri | C16: Değerlendirme Puanı | E16: DEĞERLENDİRME KRİTERLERİ | F16: Puan Değeri | G16: Değerlendirme Puanı
A17: ='PROJE ÖDEV LİSTESİ'!G16 -> Proje hazırlama planı yapması ve uygulama başarısı Kendini geliştirmek amacıyla ödevi bizzat yapması ve çabası | B17: ='PROJE ÖDEV LİSTESİ'!H16 -> 20 | E17: ='PROJE ÖDEV LİSTESİ'!G16 -> Proje hazırlama planı yapması ve uygulama başarısı Kendini geliştirmek amacıyla ödevi bizzat yapması ve çabası | F17: ='PROJE ÖDEV LİSTESİ'!H16 -> 20
A18: ='PROJE ÖDEV LİSTESİ'!G17 -> Projeyi hazırlarken öğretmeniyle diyalog kurması ve belirlenen tarihlerde kontrol ettirmesi | B18: ='PROJE ÖDEV LİSTESİ'!H17 -> 20 | E18: ='PROJE ÖDEV LİSTESİ'!G17 -> Projeyi hazırlarken öğretmeniyle diyalog kurması ve belirlenen tarihlerde kontrol ettirmesi | F18: ='PROJE ÖDEV LİSTESİ'!H17 -> 20
A19: ='PROJE ÖDEV LİSTESİ'!G18 -> Projenin doğruluk ve kullanılabilirlik derecesi, bilgi, anlam ve örneklemelerin yeterliliği | B19: ='PROJE ÖDEV LİSTESİ'!H18 -> 20 | E19: ='PROJE ÖDEV LİSTESİ'!G18 -> Projenin doğruluk ve kullanılabilirlik derecesi, bilgi, anlam ve örneklemelerin yeterliliği | F19: ='PROJE ÖDEV LİSTESİ'!H18 -> 20
A20: ='PROJE ÖDEV LİSTESİ'!G19 -> Projenin yazım ve dilin özel kurallarına uygunluğu | B20: ='PROJE ÖDEV LİSTESİ'!H19 -> 20 | E20: ='PROJE ÖDEV LİSTESİ'!G19 -> Projenin yazım ve dilin özel kurallarına uygunluğu | F20: ='PROJE ÖDEV LİSTESİ'!H19 -> 20
A21: ='PROJE ÖDEV LİSTESİ'!G20 -> Düzgün ifade kullanma ve anlaşılabilirlik | B21: ='PROJE ÖDEV LİSTESİ'!H20 -> 20 | E21: ='PROJE ÖDEV LİSTESİ'!G20 -> Düzgün ifade kullanma ve anlaşılabilirlik | F21: ='PROJE ÖDEV LİSTESİ'!H20 -> 20
A22: TOPLAM | B22: ='PROJE ÖDEV LİSTESİ'!H21 -> 100 | C22: =SUM(C17:C21) -> 0 | E22: TOPLAM | F22: ='PROJE ÖDEV LİSTESİ'!H21 -> 100 | G22: =SUM(G17:G21) -> 0

Sheet ÖĞR 7&8
A1: ='PROJE ÖDEV LİSTESİ'!A1:H1 -> 2025 – 2026 EĞİTİM-ÖĞRETİM YILI …................. ANADOLU LİSESİ İNGİLİZCE DERSİ PROJE GÖREVİ TAKİP ÇİZELGESİ | E1: ='PROJE ÖDEV LİSTESİ'!A1 -> 2025 – 2026 EĞİTİM-ÖĞRETİM YILI …................. ANADOLU LİSESİ İNGİLİZCE DERSİ PROJE GÖREVİ TAKİP ÇİZELGESİ
A2: Dersin Adı | B2: ='PROJE ÖDEV LİSTESİ'!D2 -> 0 | C2: Öğretmen İmza | E2: Dersin Adı | F2: ='PROJE ÖDEV LİSTESİ'!D2 -> 0 | G2: Öğretmen İmza
A3: Ders Öğretmeni | B3: ='PROJE ÖDEV LİSTESİ'!G2 -> 0 | E3: Ders Öğretmeni | F3: ='PROJE ÖDEV LİSTESİ'!G2 -> 0
A4: Öğrencinin Sınıfı | B4: ='PROJE ÖDEV LİSTESİ'!B10 -> 0 | C4: Öğrenci İmza | E4: Öğrencinin Sınıfı | F4: ='PROJE ÖDEV LİSTESİ'!B11 -> 0 | G4: Öğrenci İmza
A5: Öğrencinin Adı-Soyadı | B5: ='PROJE ÖDEV LİSTESİ'!D10 -> 0 | E5: Öğrencinin Adı-Soyadı | F5: ='PROJE ÖDEV LİSTESİ'!D11 -> 0
A6: Öğrencinin No’su | B6: ='PROJE ÖDEV LİSTESİ'!C10 -> 0 | E6: Öğrencinin No’su | F6: ='PROJE ÖDEV LİSTESİ'!C11 -> 0
A7: Ödevin Verildiği Tarih | B7: ='PROJE ÖDEV LİSTESİ'!E10 -> 0 | E7: Ödevin Verildiği Tarih | F7: ='PROJE ÖDEV LİSTESİ'!E11 -> 0
A8: Ödevin Son Teslim Tarihi | B8: ='PROJE ÖDEV LİSTESİ'!F10 -> 0 | E8: Ödevin Son Teslim Tarihi | F8: ='PROJE ÖDEV LİSTESİ'!F11 -> 0
A9: Ödevin Konusu | B9: ='PROJE ÖDEV LİSTESİ'!G10 -> 0 | E9: Ödevin Konusu | F9: ='PROJE ÖDEV LİSTESİ'!G11 -> 0
A11: HAZIRLIK VE ALIŞTIRMA ÇALIŞMALARI | B11: Yapıldığı Tarih | C11: İmza | E11: HAZIRLIK VE ALIŞTIRMA ÇALIŞMALARI | F11: Yapıldığı Tarih | G11: İmza
A12: 1. Kontrol | B12: ='PROJE ÖDEV LİSTESİ'!E16 -> 46036 | E12: 1. Kontrol | F12: ='PROJE ÖDEV LİSTESİ'!E16 -> 46036
A13: 2. Kontrol | B13: ='PROJE ÖDEV LİSTESİ'!E17 -> 46071 | E13: 2. Kontrol | F13: ='PROJE ÖDEV LİSTESİ'!E17 -> 46071
A14: Proje Teslimi | B14: ='PROJE ÖDEV LİSTESİ'!E18 -> 46122 | E14: Proje Teslimi | F14: ='PROJE ÖDEV LİSTESİ'!E18 -> 46122
A16: DEĞERLENDİRME KRİTERLERİ | B16: Puan Değeri | C16: Değerlendirme Puanı | E16: DEĞERLENDİRME KRİTERLERİ | F16: Puan Değeri | G16: Değerlendirme Puanı
A17: ='PROJE ÖDEV LİSTESİ'!G16 -> Proje hazırlama planı yapması ve uygulama başarısı Kendini geliştirmek amacıyla ödevi bizzat yapması ve çabası | B17: ='PROJE ÖDEV LİSTESİ'!H16 -> 20 | E17: ='PROJE ÖDEV LİSTESİ'!G16 -> Proje hazırlama planı yapması ve uygulama başarısı Kendini geliştirmek amacıyla ödevi bizzat yapması ve çabası | F17: ='PROJE ÖDEV LİSTESİ'!H16 -> 20
A18: ='PROJE ÖDEV LİSTESİ'!G17 -> Projeyi hazırlarken öğretmeniyle diyalog kurması ve belirlenen tarihlerde kontrol ettirmesi | B18: ='PROJE ÖDEV LİSTESİ'!H17 -> 20 | E18: ='PROJE ÖDEV LİSTESİ'!G17 -> Projeyi hazırlarken öğretmeniyle diyalog kurması ve belirlenen tarihlerde kontrol ettirmesi | F18: ='PROJE ÖDEV LİSTESİ'!H17 -> 20
A19: ='PROJE ÖDEV LİSTESİ'!G18 -> Projenin doğruluk ve kullanılabilirlik derecesi, bilgi, anlam ve örneklemelerin yeterliliği | B19: ='PROJE ÖDEV LİSTESİ'!H18 -> 20 | E19: ='PROJE ÖDEV LİSTESİ'!G18 -> Projenin doğruluk ve kullanılabilirlik derecesi, bilgi, anlam ve örneklemelerin yeterliliği | F19: ='PROJE ÖDEV LİSTESİ'!H18 -> 20
A20: ='PROJE ÖDEV LİSTESİ'!G19 -> Projenin yazım ve dilin özel kurallarına uygunluğu | B20: ='PROJE ÖDEV LİSTESİ'!H19 -> 20 | E20: ='PROJE ÖDEV LİSTESİ'!G19 -> Projenin yazım ve dilin özel kurallarına uygunluğu | F20: ='PROJE ÖDEV LİSTESİ'!H19 -> 20
A21: ='PROJE ÖDEV LİSTESİ'!G20 -> Düzgün ifade kullanma ve anlaşılabilirlik | B21: ='PROJE ÖDEV LİSTESİ'!H20 -> 20 | E21: ='PROJE ÖDEV LİSTESİ'!G20 -> Düzgün ifade kullanma ve anlaşılabilirlik | F21: ='PROJE ÖDEV LİSTESİ'!H20 -> 20
A22: TOPLAM | B22: ='PROJE ÖDEV LİSTESİ'!H21 -> 100 | C22: =SUM(C17:C21) -> 0 | E22: TOPLAM | F22: ='PROJE ÖDEV LİSTESİ'!H21 -> 100 | G22: =SUM(G17:G21) -> 0

Sheet ÖĞR 9&10
A1: ='PROJE ÖDEV LİSTESİ'!A1:H1 -> 2025 – 2026 EĞİTİM-ÖĞRETİM YILI …................. ANADOLU LİSESİ İNGİLİZCE DERSİ PROJE GÖREVİ TAKİP ÇİZELGESİ | E1: ='PROJE ÖDEV LİSTESİ'!A1 -> 2025 – 2026 EĞİTİM-ÖĞRETİM YILI …................. ANADOLU LİSESİ İNGİLİZCE DERSİ PROJE GÖREVİ TAKİP ÇİZELGESİ
A2: Dersin Adı | B2: ='PROJE ÖDEV LİSTESİ'!D2 -> 0 | C2: Öğretmen İmza | E2: Dersin Adı | F2: ='PROJE ÖDEV LİSTESİ'!D2 -> 0 | G2: Öğretmen İmza
A3: Ders Öğretmeni | B3: ='PROJE ÖDEV LİSTESİ'!G2 -> 0 | E3: Ders Öğretmeni | F3: ='PROJE ÖDEV LİSTESİ'!G2 -> 0
A4: Öğrencinin Sınıfı | B4: ='PROJE ÖDEV LİSTESİ'!B12 -> 0 | C4: Öğrenci İmza | E4: Öğrencinin Sınıfı | F4: ='PROJE ÖDEV LİSTESİ'!B13 -> 0 | G4: Öğrenci İmza
A5: Öğrencinin Adı-Soyadı | B5: ='PROJE ÖDEV LİSTESİ'!D12 -> 0 | E5: Öğrencinin Adı-Soyadı | F5: ='PROJE ÖDEV LİSTESİ'!D13 -> 0
A6: Öğrencinin No’su | B6: ='PROJE ÖDEV LİSTESİ'!C12 -> 0 | E6: Öğrencinin No’su | F6: ='PROJE ÖDEV LİSTESİ'!C13 -> 0
A7: Ödevin Verildiği Tarih | B7: ='PROJE ÖDEV LİSTESİ'!E12 -> 0 | E7: Ödevin Verildiği Tarih | F7: ='PROJE ÖDEV LİSTESİ'!E13 -> 0
A8: Ödevin Son Teslim Tarihi | B8: ='PROJE ÖDEV LİSTESİ'!F12 -> 0 | E8: Ödevin Son Teslim Tarihi | F8: ='PROJE ÖDEV LİSTESİ'!F13 -> 0
A9: Ödevin Konusu | B9: ='PROJE ÖDEV LİSTESİ'!G12 -> 0 | E9: Ödevin Konusu | F9: ='PROJE ÖDEV LİSTESİ'!G13 -> 0
A11: HAZIRLIK VE ALIŞTIRMA ÇALIŞMALARI | B11: Yapıldığı Tarih | C11: İmza | E11: HAZIRLIK VE ALIŞTIRMA ÇALIŞMALARI | F11: Yapıldığı Tarih | G11: İmza
A12: 1. Kontrol | B12: ='PROJE ÖDEV LİSTESİ'!E16 -> 46036 | E12: 1. Kontrol | F12: ='PROJE ÖDEV LİSTESİ'!E16 -> 46036
A13: 2. Kontrol | B13: ='PROJE ÖDEV LİSTESİ'!E17 -> 46071 | E13: 2. Kontrol | F13: ='PROJE ÖDEV LİSTESİ'!E17 -> 46071
A14: Proje Teslimi | B14: ='PROJE ÖDEV LİSTESİ'!E18 -> 46122 | E14: Proje Teslimi | F14: ='PROJE ÖDEV LİSTESİ'!E18 -> 46122
A16: DEĞERLENDİRME KRİTERLERİ | B16: Puan Değeri | C16: Değerlendirme Puanı | E16: DEĞERLENDİRME KRİTERLERİ | F16: Puan Değeri | G16: Değerlendirme Puanı
A17: ='PROJE ÖDEV LİSTESİ'!G16 -> Proje hazırlama planı yapması ve uygulama başarısı Kendini geliştirmek amacıyla ödevi bizzat yapması ve çabası | B17: ='PROJE ÖDEV LİSTESİ'!H16 -> 20 | E17: ='PROJE ÖDEV LİSTESİ'!G16 -> Proje hazırlama planı yapması ve uygulama başarısı Kendini geliştirmek amacıyla ödevi bizzat yapması ve çabası | F17: ='PROJE ÖDEV LİSTESİ'!H16 -> 20
A18: ='PROJE ÖDEV LİSTESİ'!G17 -> Projeyi hazırlarken öğretmeniyle diyalog kurması ve belirlenen tarihlerde kontrol ettirmesi | B18: ='PROJE ÖDEV LİSTESİ'!H17 -> 20 | E18: ='PROJE ÖDEV LİSTESİ'!G17 -> Projeyi hazırlarken öğretmeniyle diyalog kurması ve belirlenen tarihlerde kontrol ettirmesi | F18: ='PROJE ÖDEV LİSTESİ'!H17 -> 20
A19: ='PROJE ÖDEV LİSTESİ'!G18 -> Projenin doğruluk ve kullanılabilirlik derecesi, bilgi, anlam ve örneklemelerin yeterliliği | B19: ='PROJE ÖDEV LİSTESİ'!H18 -> 20 | E19: ='PROJE ÖDEV LİSTESİ'!G18 -> Projenin doğruluk ve kullanılabilirlik derecesi, bilgi, anlam ve örneklemelerin yeterliliği | F19: ='PROJE ÖDEV LİSTESİ'!H18 -> 20
A20: ='PROJE ÖDEV LİSTESİ'!G19 -> Projenin yazım ve dilin özel kurallarına uygunluğu | B20: ='PROJE ÖDEV LİSTESİ'!H19 -> 20 | E20: ='PROJE ÖDEV LİSTESİ'!G19 -> Projenin yazım ve dilin özel kurallarına uygunluğu | F20: ='PROJE ÖDEV LİSTESİ'!H19 -> 20
A21: ='PROJE ÖDEV LİSTESİ'!G20 -> Düzgün ifade kullanma ve anlaşılabilirlik | B21: ='PROJE ÖDEV LİSTESİ'!H20 -> 20 | E21: ='PROJE ÖDEV LİSTESİ'!G20 -> Düzgün ifade kullanma ve anlaşılabilirlik | F21: ='PROJE ÖDEV LİSTESİ'!H20 -> 20
A22: TOPLAM | B22: ='PROJE ÖDEV LİSTESİ'!H21 -> 100 | C22: =SUM(C17:C21) -> 0 | E22: TOPLAM | F22: ='PROJE ÖDEV LİSTESİ'!H21 -> 100 | G22: =SUM(G17:G21) -> 0
