Workbook

Sheet STLST
B1: …. ANADOLU LİSESİ
B2: CLASS | D2: 9/…
B3: ÖĞRETMEN ADI
B4: THEME
C5: SCHOOL NUMBER St's number | D5: NAME St's name only or name and surname together | E5: SURNAME St's surname if not written in the NAME coloumn
B6: 1
B7: 2
B8: 3
B9: 4
B10: 5
B11: 6
B12: 7
B13: 8
B14: 9
B15: 10
B16: 11
B17: 12
... B55: 50

Sheet 1-LSTNWTCH
C1: CLASS : | D1: =STLST!D2 -> 9/… | E1: THEME : | F1: =STLST!D4 -> 0 | H1: 1 - CHECKLIST FOR LISTENING/WATCHING SKILL
B2: SCHOOL NUMBER | C2: NAME SURNAME | D2: OBSERVED SKILL | N2: TOTAL SCORE | O2: CLICK AND ADD NOTES
D3: 1. Understands the main idea of spoken/audio-visual material | E3: 2. Identifies and recalls supporting details | F3: 3. Makes logical inferences from the content | G3: 4. Accurately decodes meaning from tone, intonation, or visuals | H3: 5. Summarizes or paraphrases spoken/watched content meaningfully | I3: 6. Responds appropriately to closed, semi-open, and open-ended questions | J3: 7. Participates in follow-up discussions or group tasks | K3: 8. Demonstrates critical thinking or reflective comments about the material | L3: 9. Uses note-taking or visual strategies (e.g., charts, lists) effectively if needed | M3: 10. Takes turns, listens actively, and engages respectfully in collaborative settings
A4: =STLST!B6 -> 1 | B4: =STLST!C6 -> 0 | C4: =STLST!D6 -> 0 | N4: =IF(D4="Yes (10pts)",10)+IF(E4="Yes (10pts)",10)+IF(F4="Yes (10pts)",10)+IF(G4="Yes (10pts)",10)+IF(H4="Yes (10pts)",10)+IF(I4="Yes (10pts)",10)+IF(J4="Yes (10pts)",10)+IF(K4="Yes (10pts)",10)+IF(L4="Yes (10pts)",10)+IF(M4="Yes (10pts)",10) -> 0 | O4: SCROLL DOWN AND ADD NOTES ABOUT THE STUDENTS
A5: =STLST!B7 -> 2 | B5: =STLST!C7 -> 0 | C5: =STLST!D7 -> 0 | N5: =IF(D5="Yes (10pts)",10)+IF(E5="Yes (10pts)",10)+IF(F5="Yes (10pts)",10)+IF(G5="Yes (10pts)",10)+IF(H5="Yes (10pts)",10)+IF(I5="Yes (10pts)",10)+IF(J5="Yes (10pts)",10)+IF(K5="Yes (10pts)",10)+IF(L5="Yes (10pts)",10)+IF(M5="Yes (10pts)",10) -> 0
A6: =STLST!B8 -> 3 | B6: =STLST!C8 -> 0 | C6: =STLST!D8 -> 0 | N6: =IF(D6="Yes (10pts)",10)+IF(E6="Yes (10pts)",10)+IF(F6="Yes (10pts)",10)+IF(G6="Yes (10pts)",10)+IF(H6="Yes (10pts)",10)+IF(I6="Yes (10pts)",10)+IF(J6="Yes (10pts)",10)+IF(K6="Yes (10pts)",10)+IF(L6="Yes (10pts)",10)+IF(M6="Yes (10pts)",10) -> 0
A7: =STLST!B9 -> 4 | B7: =STLST!C9 -> 0 | C7: =STLST!D9 -> 0 | N7: =IF(D7="Yes (10pts)",10)+IF(E7="Yes (10pts)",10)+IF(F7="Yes (10pts)",10)+IF(G7="Yes (10pts)",10)+IF(H7="Yes (10pts)",10)+IF(I7="Yes (10pts)",10)+IF(J7="Yes (10pts)",10)+IF(K7="Yes (10pts)",10)+IF(L7="Yes (10pts)",10)+IF(M7="Yes (10pts)",10) -> 0
A8: =STLST!B10 -> 5 | B8: =STLST!C10 -> 0 | C8: =STLST!D10 -> 0 | N8: =IF(D8="Yes (10pts)",10)+IF(E8="Yes (10pts)",10)+IF(F8="Yes (10pts)",10)+IF(G8="Yes (10pts)",10)+IF(H8="Yes (10pts)",10)+IF(I8="Yes (10pts)",10)+IF(J8="Yes (10pts)",10)+IF(K8="Yes (10pts)",10)+IF(L8="Yes (10pts)",10)+IF(M8="Yes (10pts)",10) -> 0
A9: =STLST!B11 -> 6 | B9: =STLST!C11 -> 0 | C9: =STLST!D11 -> 0 | N9: =IF(D9="Yes (10pts)",10)+IF(E9="Yes (10pts)",10)+IF(F9="Yes (10pts)",10)+IF(G9="Yes (10pts)",10)+IF(H9="Yes (10pts)",10)+IF(I9="Yes (10pts)",10)+IF(J9="Yes (10pts)",10)+IF(K9="Yes (10pts)",10)+IF(L9="Yes (10pts)",10)+IF(M9="Yes (10pts)",10) -> 0
A10: =STLST!B12 -> 7 | B10: =STLST!C12 -> 0 | C10: =STLST!D12 -> 0 | N10: =IF(D10="Yes (10pts)",10)+IF(E10="Yes (10pts)",10)+IF(F10="Yes (10pts)",10)+IF(G10="Yes (10pts)",10)+IF(H10="Yes (10pts)",10)+IF(I10="Yes (10pts)",10)+IF(J10="Yes (10pts)",10)+IF(K10="Yes (10pts)",10)+IF(L10="Yes (10pts)",10)+IF(M10="Yes (10pts)",10) -> 0
A11: =STLST!B13 -> 8 | B11: =STLST!C13 -> 0 | C11: =STLST!D13 -> 0 | N11: =IF(D11="Yes (10pts)",10)+IF(E11="Yes (10pts)",10)+IF(F11="Yes (10pts)",10)+IF(G11="Yes (10pts)",10)+IF(H11="Yes (10pts)",10)+IF(I11="Yes (10pts)",10)+IF(J11="Yes (10pts)",10)+IF(K11="Yes (10pts)",10)+IF(L11="Yes (10pts)",10)+IF(M11="Yes (10pts)",10) -> 0
A12: =STLST!B14 -> 9 | B12: =STLST!C14 -> 0 | C12: =STLST!D14 -> 0 | N12: =IF(D12="Yes (10pts)",10)+IF(E12="Yes (10pts)",10)+IF(F12="Yes (10pts)",10)+IF(G12="Yes (10pts)",10)+IF(H12="Yes (10pts)",10)+IF(I12="Yes (10pts)",10)+IF(J12="Yes (10pts)",10)+IF(K12="Yes (10pts)",10)+IF(L12="Yes (10pts)",10)+IF(M12="Yes (10pts)",10) -> 0
A13: =STLST!B15 -> 10 | B13: =STLST!C15 -> 0 | C13: =STLST!D15 -> 0 | N13: =IF(D13="Yes (10pts)",10)+IF(E13="Yes (10pts)",10)+IF(F13="Yes (10pts)",10)+IF(G13="Yes (10pts)",10)+IF(H13="Yes (10pts)",10)+IF(I13="Yes (10pts)",10)+IF(J13="Yes (10pts)",10)+IF(K13="Yes (10pts)",10)+IF(L13="Yes (10pts)",10)+IF(M13="Yes (10pts)",10) -> 0
A14: =STLST!B16 -> 11 | B14: =STLST!C16 -> 0 | C14: =STLST!D16 -> 0 | N14: =IF(D14="Yes (10pts)",10)+IF(E14="Yes (10pts)",10)+IF(F14="Yes (10pts)",10)+IF(G14="Yes (10pts)",10)+IF(H14="Yes (10pts)",10)+IF(I14="Yes (10pts)",10)+IF(J14="Yes (10pts)",10)+IF(K14="Yes (10pts)",10)+IF(L14="Yes (10pts)",10)+IF(M14="Yes (10pts)",10) -> 0
A15: =STLST!B17 -> 12 | B15: =STLST!C17 -> 0 | C15: =STLST!D17 -> 0 | N15: =IF(D15="Yes (10pts)",10)+IF(E15="Yes (10pts)",10)+IF(F15="Yes (10pts)",10)+IF(G15="Yes (10pts)",10)+IF(H15="Yes (10pts)",10)+IF(I15="Yes (10pts)",10)+IF(J15="Yes (10pts)",10)+IF(K15="Yes (10pts)",10)+IF(L15="Yes (10pts)",10)+IF(M15="Yes (10pts)",10) -> 0
A16: =STLST!B18 -> 13 | B16: =STLST!C18 -> 0 | C16: =STLST!D18 -> 0 | N16: =IF(D16="Yes (10pts)",10)+IF(E16="Yes (10pts)",10)+IF(F16="Yes (10pts)",10)+IF(G16="Yes (10pts)",10)+IF(H16="Yes (10pts)",10)+IF(I16="Yes (10pts)",10)+IF(J16="Yes (10pts)",10)+IF(K16="Yes (10pts)",10)+IF(L16="Yes (10pts)",10)+IF(M16="Yes (10pts)",10) -> 0
... A38: =STLST!B40 -> 35 | B38: =STLST!C40 -> 0 | C38: =STLST!D40 -> 0 | N38: =IF(D38="Yes (10pts)",10)+IF(E38="Yes (10pts)",10)+IF(F38="Yes (10pts)",10)+IF(G38="Yes (10pts)",10)+IF(H38="Yes (10pts)",10)+IF(I38="Yes (10pts)",10)+IF(J38="Yes (10pts)",10)+IF(K38="Yes (10pts)",10)+IF(L38="Yes (10pts)",10)+IF(M38="Yes (10pts)",10) -> 0
D40: Scoring Guide
D41: • 90–100 Excellent. Consistently performs all listening/watching skills with accuracy and depth.
D42: • 75–89 Good. Strong skills with minor gaps in detail or inference. | L42: =STLST!D3 -> 0
D43: • 60–74 Satisfactory. Basic comprehension and engagement with some inconsistencies. | L43: TEACHER OF ENGLISH
D44: • 40–59 Needs Improvement. Limited understanding; needs targeted support.
D45: • 0–39 Poor. Major gaps in listening skills; requires intensive intervention.
C50: CLASS : | D50: =D1 -> 9/… | E50: THEME : | F50: =F1 -> 0 | H50: 1 - CHECKLIST FOR LISTENING/WATCHING SKILL
B51: SCHOOL NUMBER | C51: NAME SURNAME | D51: NOTES | N51: SCROLL UP AND GO TO MAIN PAGE
A53: =A4 -> 1 | B53: =B4 -> 0 | C53: =C4 -> 0 | N53: SCROLL UP AND GO TO MAIN PAGE
A54: =A5 -> 2 | B54: =B5 -> 0 | C54: =C5 -> 0
A55: =A6 -> 3 | B55: =B6 -> 0 | C55: =C6 -> 0
A56: =A7 -> 4 | B56: =B7 -> 0 | C56: =C7 -> 0
A57: =A8 -> 5 | B57: =B8 -> 0 | C57: =C8 -> 0
A58: =A9 -> 6 | B58: =B9 -> 0 | C58: =C9 -> 0
A59: =A10 -> 7 | B59: =B10 -> 0 | C59: =C10 -> 0
A60: =A11 -> 8 | B60: =B11 -> 0 | C60: =C11 -> 0
A61: =A12 -> 9 | B61: =B12 -> 0 | C61: =C12 -> 0
A62: =A13 -> 10 | B62: =B13 -> 0 | C62: =C13 -> 0
A63: =A14 -> 11 | B63: =B14 -> 0 | C63: =C14 -> 0
A64: =A15 -> 12 | B64: =B15 -> 0 | C64: =C15 -> 0
A65: =A16 -> 13 | B65: =B16 -> 0 | C65: =C16 -> 0
... A87: =A38 -> 35 | B87: =B38 -> 0 | C87: =C38 -> 0
K89: =L42 -> 0
...

Sheet 2-PRNNCTN
B1: THEME | C1: =STLST!D4 -> 0 | E1: CLASS | F1: =STLST!D2 -> 9/… | H1: 2 - PRONUNCIATION ASSESSMENT RUBRIC
B2: SCHOOL NUMBER | C2: NAME SURNAME | D2: Clarity Needs Improvement (1) The speech is very unclear, making it significantly difficult for the listener to understand. Limited (2) The speech is often unclear, and the listener struggles to understand. Good (3) Most speech is clear, with minor issues with a few words, but understanding is not affected. Excellent (4) The speech is clear and easy to understand, with no ambiguity. | H2: Fluency Needs Improvement (1) The speech is very hesitant, with significant pauses, making it choppy and difficult to follow. Limited (2) Frequent pauses or hesitations disrupt the flow of the speech. Good (3) The speaker is generally fluent, with occasional pauses but maintains the flow. Excellent (4) The speaker talks smoothly and naturally with minimal hesitation. | L2: Accuracy Needs Improvement (1) Pronunciation errors are numerous, with fundamental issues affecting understanding. Limited (2) Pronunciation errors are frequent, with several sounds or words mispronounced. Good (3) Most sounds and words are pronounced correctly, with a few minor errors not affecting overall understanding. Excellent (4) Pronunciation of sounds and words is consistently correct, with no noticeable errors. | P2: Intonation Needs Improvement (1) Intonation is inappropriate, making the speech monotonous and ineffective at conveying meaning. Limited (2) Intonation is inconsistent and does not enhance meaning, occasionally leading to misunderstandings. Good (3) The speaker generally has good intonation with some variations but may lack emphasis in certain areas. Excellent (4) The speaker uses appropriate intonation patterns that enhance meaning. | T2: TOTAL SCORE
A3: =STLST!B6 -> 1 | B3: =STLST!C6 -> 0 | C3: =STLST!D6 -> 0 | T3: =IF(D3="Needs Improvement (1)",1)+IF(D3="Limited (2p)",2)+IF(D3="Good (3)",3)+IF(D3="Excellent (4)",4)+IF(H3="Needs Improvement (1)",1)+IF(H3="Limited (2p)",2)+IF(H3="Good (3)",3)+IF(H3="Excellent (4)",4)+IF(L3="Needs Improvement (1)",1)+IF(L3="Limited (2p)",2)+IF(L3="Good (3)",3)+IF(L3="Excellent (4)",4)+IF(P3="Needs Improvement (1)",1)+IF(P3="Limited (2p)",2)+IF(P3="Good (3)",3)+IF(P3="Excellent (4)",4) -> 0
A4: =STLST!B7 -> 2 | B4: =STLST!C7 -> 0 | C4: =STLST!D7 -> 0 | T4: =IF(D4="Needs Improvement (1)",1)+IF(D4="Limited (2p)",2)+IF(D4="Good (3)",3)+IF(D4="Excellent (4)",4)+IF(H4="Needs Improvement (1)",1)+IF(H4="Limited (2p)",2)+IF(H4="Good (3)",3)+IF(H4="Excellent (4)",4)+IF(L4="Needs Improvement (1)",1)+IF(L4="Limited (2p)",2)+IF(L4="Good (3)",3)+IF(L4="Excellent (4)",4)+IF(P4="Needs Improvement (1)",1)+IF(P4="Limited (2p)",2)+IF(P4="Good (3)",3)+IF(P4="Excellent (4)",4) -> 0
A5: =STLST!B8 -> 3 | B5: =STLST!C8 -> 0 | C5: =STLST!D8 -> 0 | T5: =IF(D5="Needs Improvement (1)",1)+IF(D5="Limited (2p)",2)+IF(D5="Good (3)",3)+IF(D5="Excellent (4)",4)+IF(H5="Needs Improvement (1)",1)+IF(H5="Limited (2p)",2)+IF(H5="Good (3)",3)+IF(H5="Excellent (4)",4)+IF(L5="Needs Improvement (1)",1)+IF(L5="Limited (2p)",2)+IF(L5="Good (3)",3)+IF(L5="Excellent (4)",4)+IF(P5="Needs Improvement (1)",1)+IF(P5="Limited (2p)",2)+IF(P5="Good (3)",3)+IF(P5="Excellent (4)",4) -> 0
A6: =STLST!B9 -> 4 | B6: =STLST!C9 -> 0 | C6: =STLST!D9 -> 0 | T6: =IF(D6="Needs Improvement (1)",1)+IF(D6="Limited (2p)",2)+IF(D6="Good (3)",3)+IF(D6="Excellent (4)",4)+IF(H6="Needs Improvement (1)",1)+IF(H6="Limited (2p)",2)+IF(H6="Good (3)",3)+IF(H6="Excellent (4)",4)+IF(L6="Needs Improvement (1)",1)+IF(L6="Limited (2p)",2)+IF(L6="Good (3)",3)+IF(L6="Excellent (4)",4)+IF(P6="Needs Improvement (1)",1)+IF(P6="Limited (2p)",2)+IF(P6="Good (3)",3)+IF(P6="Excellent (4)",4) -> 0
A7: =STLST!B10 -> 5 | B7: =STLST!C10 -> 0 | C7: =STLST!D10 -> 0 | T7: =IF(D7="Needs Improvement (1)",1)+IF(D7="Limited (2p)",2)+IF(D7="Good (3)",3)+IF(D7="Excellent (4)",4)+IF(H7="Needs Improvement (1)",1)+IF(H7="Limited (2p)",2)+IF(H7="Good (3)",3)+IF(H7="Excellent (4)",4)+IF(L7="Needs Improvement (1)",1)+IF(L7="Limited (2p)",2)+IF(L7="Good (3)",3)+IF(L7="Excellent (4)",4)+IF(P7="Needs Improvement (1)",1)+IF(P7="Limited (2p)",2)+IF(P7="Good (3)",3)+IF(P7="Excellent (4)",4) -> 0
A8: =STLST!B11 -> 6 | B8: =STLST!C11 -> 0 | C8: =STLST!D11 -> 0 | T8: =IF(D8="Needs Improvement (1)",1)+IF(D8="Limited (2p)",2)+IF(D8="Good (3)",3)+IF(D8="Excellent (4)",4)+IF(H8="Needs Improvement (1)",1)+IF(H8="Limited (2p)",2)+IF(H8="Good (3)",3)+IF(H8="Excellent (4)",4)+IF(L8="Needs Improvement (1)",1)+IF(L8="Limited (2p)",2)+IF(L8="Good (3)",3)+IF(L8="Excellent (4)",4)+IF(P8="Needs Improvement (1)",1)+IF(P8="Limited (2p)",2)+IF(P8="Good (3)",3)+IF(P8="Excellent (4)",4) -> 0
A9: =STLST!B12 -> 7 | B9: =STLST!C12 -> 0 | C9: =STLST!D12 -> 0 | T9: =IF(D9="Needs Improvement (1)",1)+IF(D9="Limited (2p)",2)+IF(D9="Good (3)",3)+IF(D9="Excellent (4)",4)+IF(H9="Needs Improvement (1)",1)+IF(H9="Limited (2p)",2)+IF(H9="Good (3)",3)+IF(H9="Excellent (4)",4)+IF(L9="Needs Improvement (1)",1)+IF(L9="Limited (2p)",2)+IF(L9="Good (3)",3)+IF(L9="Excellent (4)",4)+IF(P9="Needs Improvement (1)",1)+IF(P9="Limited (2p)",2)+IF(P9="Good (3)",3)+IF(P9="Excellent (4)",4) -> 0
A10: =STLST!B13 -> 8 | B10: =STLST!C13 -> 0 | C10: =STLST!D13 -> 0 | T10: =IF(D10="Needs Improvement (1)",1)+IF(D10="Limited (2p)",2)+IF(D10="Good (3)",3)+IF(D10="Excellent (4)",4)+IF(H10="Needs Improvement (1)",1)+IF(H10="Limited (2p)",2)+IF(H10="Good (3)",3)+IF(H10="Excellent (4)",4)+IF(L10="Needs Improvement (1)",1)+IF(L10="Limited (2p)",2)+IF(L10="Good (3)",3)+IF(L10="Excellent (4)",4)+IF(P10="Needs Improvement (1)",1)+IF(P10="Limited (2p)",2)+IF(P10="Good (3)",3)+IF(P10="Excellent (4)",4) -> 0
A11: =STLST!B14 -> 9 | B11: =STLST!C14 -> 0 | C11: =STLST!D14 -> 0 | T11: =IF(D11="Needs Improvement (1)",1)+IF(D11="Limited (2p)",2)+IF(D11="Good (3)",3)+IF(D11="Excellent (4)",4)+IF(H11="Needs Improvement (1)",1)+IF(H11="Limited (2p)",2)+IF(H11="Good (3)",3)+IF(H11="Excellent (4)",4)+IF(L11="Needs Improvement (1)",1)+IF(L11="Limited (2p)",2)+IF(L11="Good (3)",3)+IF(L11="Excellent (4)",4)+IF(P11="Needs Improvement (1)",1)+IF(P11="Limited (2p)",2)+IF(P11="Good (3)",3)+IF(P11="Excellent (4)",4) -> 0
A12: =STLST!B15 -> 10 | B12: =STLST!C15 -> 0 | C12: =STLST!D15 -> 0 | T12: =IF(D12="Needs Improvement (1)",1)+IF(D12="Limited (2p)",2)+IF(D12="Good (3)",3)+IF(D12="Excellent (4)",4)+IF(H12="Needs Improvement (1)",1)+IF(H12="Limited (2p)",2)+IF(H12="Good (3)",3)+IF(H12="Excellent (4)",4)+IF(L12="Needs Improvement (1)",1)+IF(L12="Limited (2p)",2)+IF(L12="Good (3)",3)+IF(L12="Excellent (4)",4)+IF(P12="Needs Improvement (1)",1)+IF(P12="Limited (2p)",2)+IF(P12="Good (3)",3)+IF(P12="Excellent (4)",4) -> 0
A13: =STLST!B16 -> 11 | B13: =STLST!C16 -> 0 | C13: =STLST!D16 -> 0 | T13: =IF(D13="Needs Improvement (1)",1)+IF(D13="Limited (2p)",2)+IF(D13="Good (3)",3)+IF(D13="Excellent (4)",4)+IF(H13="Needs Improvement (1)",1)+IF(H13="Limited (2p)",2)+IF(H13="Good (3)",3)+IF(H13="Excellent (4)",4)+IF(L13="Needs Improvement (1)",1)+IF(L13="Limited (2p)",2)+IF(L13="Good (3)",3)+IF(L13="Excellent (4)",4)+IF(P13="Needs Improvement (1)",1)+IF(P13="Limited (2p)",2)+IF(P13="Good (3)",3)+IF(P13="Excellent (4)",4) -> 0
A14: =STLST!B17 -> 12 | B14: =STLST!C17 -> 0 | C14: =STLST!D17 -> 0 | T14: =IF(D14="Needs Improvement (1)",1)+IF(D14="Limited (2p)",2)+IF(D14="Good (3)",3)+IF(D14="Excellent (4)",4)+IF(H14="Needs Improvement (1)",1)+IF(H14="Limited (2p)",2)+IF(H14="Good (3)",3)+IF(H14="Excellent (4)",4)+IF(L14="Needs Improvement (1)",1)+IF(L14="Limited (2p)",2)+IF(L14="Good (3)",3)+IF(L14="Excellent (4)",4)+IF(P14="Needs Improvement (1)",1)+IF(P14="Limited (2p)",2)+IF(P14="Good (3)",3)+IF(P14="Excellent (4)",4) -> 0
... A37: =STLST!B40 -> 35 | B37: =STLST!C40 -> 0 | C37: =STLST!D40 -> 0 | T37: =IF(D37="Needs Improvement (1)",1)+IF(D37="Limited (2p)",2)+IF(D37="Good (3)",3)+IF(D37="Excellent (4)",4)+IF(H37="Needs Improvement (1)",1)+IF(H37="Limited (2p)",2)+IF(H37="Good (3)",3)+IF(H37="Excellent (4)",4)+IF(L37="Needs Improvement (1)",1)+IF(L37="Limited (2p)",2)+IF(L37="Good (3)",3)+IF(L37="Excellent (4)",4)+IF(P37="Needs Improvement (1)",1)+IF(P37="Limited (2p)",2)+IF(P37="Good (3)",3)+IF(P37="Excellent (4)",4) -> 0

Sheet 3-VOCAB
B1: THEME | C1: =STLST!D4 -> 0 | E1: CLASS | F1: =STLST!D2 -> 9/… | H1: VOCABULARY SKILL RUBRIC
B2: SCHOOL NUMBER | C2: NAME SURNAME | D2: Vocabulary Recognition Needs Improvement (1) Very limited vocabulary recognition, struggles to identify basic words Limited (2) Limited recognition of basic vocabulary, often relies on assistance Satisfactory (3) Recognises common words but needs help with less familiar vocabulary Good (4) Recognises familiar vocabulary, occasionally needs assistance with new words Excellent (5) Recognises and understands most basic vocabulary with ease | H2: Vocabulary Usage Needs Improvement (1) Struggles to use basic vocabulary; relies on memorised words Limited (2) Uses very limited vocabulary; avoids using unfamiliar words Satisfactory (3) Uses basic vocabulary but is hesitant to use new words Good (4) Uses familiar vocabulary correctly; sometimes attempts new word types such as antonyms, synonyms, and word forms Excellent (5) Uses a wide range of familiar words and word types such as antonyms, synonyms, and word forms appropriately | L2: Accuracy in Usage Needs Improvement (1) Consistently struggles with correct word usage; meaning is frequently unclear Limited (2) Frequent errors in vocabulary usage;meaning often unclear without support Satisfactory (3) Uses vocabulary correctly with occasional support needed Good (4) Makes minor errors in word usage, but the meaning remains clear Excellent (5) Uses vocabulary accurately in context with few errors | P2: Understanding in Context Needs Improvement (1) Rarely understands words in context, even in familiar settings Limited (2) Difficulty understanding words, even in simple contexts Satisfactory (3) Grasps basic words in context but struggles with unfamiliar ones Good (4) Understands familiar vocabulary in context; requires help with new words Excellent (5) Understands familiar words in simple sentences and short texts with ease | T2: TOTAL SCORE
A3: =STLST!B6 -> 1 | B3: =STLST!C6 -> 0 | C3: =STLST!D6 -> 0 | T3: =IF(D3="Needs Improvement (1)",1)+IF(D3="Limited (2)",2)+IF(D3="Satisfactory (3)",3)+IF(D3="Good (4)",4)+IF(D3="Excellent (5)",5)+IF(H3="Needs Improvement (1)",1)+IF(H3="Limited (2)",2)+IF(H3="Satisfactory (3)",3)+IF(H3="Good (4)",4)+IF(H3="Excellent (5)",5)+IF(L3="Needs Improvement (1)",1)+IF(L3="Limited (2)",2)+IF(L3="Satisfactory (3)",3)+IF(L3="Good (4)",4)+IF(L3="Excellent (5)",5)+IF(P3="Needs Improvement (1)",1)+IF(P3="Limited (2)",2)+IF(P3="Satisfactory (3)",3)+IF(P3="Good (4)",4)+IF(P3="Excellent (5)",5) -> 0
A4: =STLST!B7 -> 2 | B4: =STLST!C7 -> 0 | C4: =STLST!D7 -> 0 | T4: =IF(D4="Needs Improvement (1)",1)+IF(D4="Limited (2)",2)+IF(D4="Satisfactory (3)",3)+IF(D4="Good (4)",4)+IF(D4="Excellent (5)",5)+IF(H4="Needs Improvement (1)",1)+IF(H4="Limited (2)",2)+IF(H4="Satisfactory (3)",3)+IF(H4="Good (4)",4)+IF(H4="Excellent (5)",5)+IF(L4="Needs Improvement (1)",1)+IF(L4="Limited (2)",2)+IF(L4="Satisfactory (3)",3)+IF(L4="Good (4)",4)+IF(L4="Excellent (5)",5)+IF(P4="Needs Improvement (1)",1)+IF(P4="Limited (2)",2)+IF(P4="Satisfactory (3)",3)+IF(P4="Good (4)",4)+IF(P4="Excellent (5)",5) -> 0
A5: =STLST!B8 -> 3 | B5: =STLST!C8 -> 0 | C5: =STLST!D8 -> 0 | T5: =IF(D5="Needs Improvement (1)",1)+IF(D5="Limited (2)",2)+IF(D5="Satisfactory (3)",3)+IF(D5="Good (4)",4)+IF(D5="Excellent (5)",5)+IF(H5="Needs Improvement (1)",1)+IF(H5="Limited (2)",2)+IF(H5="Satisfactory (3)",3)+IF(H5="Good (4)",4)+IF(H5="Excellent (5)",5)+IF(L5="Needs Improvement (1)",1)+IF(L5="Limited (2)",2)+IF(L5="Satisfactory (3)",3)+IF(L5="Good (4)",4)+IF(L5="Excellent (5)",5)+IF(P5="Needs Improvement (1)",1)+IF(P5="Limited (2)",2)+IF(P5="Satisfactory (3)",3)+IF(P5="Good (4)",4)+IF(P5="Excellent (5)",5) -> 0
A6: =STLST!B9 -> 4 | B6: =STLST!C9 -> 0 | C6: =STLST!D9 -> 0 | T6: =IF(D6="Needs Improvement (1)",1)+IF(D6="Limited (2)",2)+IF(D6="Satisfactory (3)",3)+IF(D6="Good (4)",4)+IF(D6="Excellent (5)",5)+IF(H6="Needs Improvement (1)",1)+IF(H6="Limited (2)",2)+IF(H6="Satisfactory (3)",3)+IF(H6="Good (4)",4)+IF(H6="Excellent (5)",5)+IF(L6="Needs Improvement (1)",1)+IF(L6="Limited (2)",2)+IF(L6="Satisfactory (3)",3)+IF(L6="Good (4)",4)+IF(L6="Excellent (5)",5)+IF(P6="Needs Improvement (1)",1)+IF(P6="Limited (2)",2)+IF(P6="Satisfactory (3)",3)+IF(P6="Good (4)",4)+IF(P6="Excellent (5)",5) -> 0
A7: =STLST!B10 -> 5 | B7: =STLST!C10 -> 0 | C7: =STLST!D10 -> 0 | T7: =IF(D7="Needs Improvement (1)",1)+IF(D7="Limited (2)",2)+IF(D7="Satisfactory (3)",3)+IF(D7="Good (4)",4)+IF(D7="Excellent (5)",5)+IF(H7="Needs Improvement (1)",1)+IF(H7="Limited (2)",2)+IF(H7="Satisfactory (3)",3)+IF(H7="Good (4)",4)+IF(H7="Excellent (5)",5)+IF(L7="Needs Improvement (1)",1)+IF(L7="Limited (2)",2)+IF(L7="Satisfactory (3)",3)+IF(L7="Good (4)",4)+IF(L7="Excellent (5)",5)+IF(P7="Needs Improvement (1)",1)+IF(P7="Limited (2)",2)+IF(P7="Satisfactory (3)",3)+IF(P7="Good (4)",4)+IF(P7="Excellent (5)",5) -> 0
A8: =STLST!B11 -> 6 | B8: =STLST!C11 -> 0 | C8: =STLST!D11 -> 0 | T8: =IF(D8="Needs Improvement (1)",1)+IF(D8="Limited (2)",2)+IF(D8="Satisfactory (3)",3)+IF(D8="Good (4)",4)+IF(D8="Excellent (5)",5)+IF(H8="Needs Improvement (1)",1)+IF(H8="Limited (2)",2)+IF(H8="Satisfactory (3)",3)+IF(H8="Good (4)",4)+IF(H8="Excellent (5)",5)+IF(L8="Needs Improvement (1)",1)+IF(L8="Limited (2)",2)+IF(L8="Satisfactory (3)",3)+IF(L8="Good (4)",4)+IF(L8="Excellent (5)",5)+IF(P8="Needs Improvement (1)",1)+IF(P8="Limited (2)",2)+IF(P8="Satisfactory (3)",3)+IF(P8="Good (4)",4)+IF(P8="Excellent (5)",5) -> 0
A9: =STLST!B12 -> 7 | B9: =STLST!C12 -> 0 | C9: =STLST!D12 -> 0 | T9: =IF(D9="Needs Improvement (1)",1)+IF(D9="Limited (2)",2)+IF(D9="Satisfactory (3)",3)+IF(D9="Good (4)",4)+IF(D9="Excellent (5)",5)+IF(H9="Needs Improvement (1)",1)+IF(H9="Limited (2)",2)+IF(H9="Satisfactory (3)",3)+IF(H9="Good (4)",4)+IF(H9="Excellent (5)",5)+IF(L9="Needs Improvement (1)",1)+IF(L9="Limited (2)",2)+IF(L9="Satisfactory (3)",3)+IF(L9="Good (4)",4)+IF(L9="Excellent (5)",5)+IF(P9="Needs Improvement (1)",1)+IF(P9="Limited (2)",2)+IF(P9="Satisfactory (3)",3)+IF(P9="Good (4)",4)+IF(P9="Excellent (5)",5) -> 0
A10: =STLST!B13 -> 8 | B10: =STLST!C13 -> 0 | C10: =STLST!D13 -> 0 | T10: =IF(D10="Needs Improvement (1)",1)+IF(D10="Limited (2)",2)+IF(D10="Satisfactory (3)",3)+IF(D10="Good (4)",4)+IF(D10="Excellent (5)",5)+IF(H10="Needs Improvement (1)",1)+IF(H10="Limited (2)",2)+IF(H10="Satisfactory (3)",3)+IF(H10="Good (4)",4)+IF(H10="Excellent (5)",5)+IF(L10="Needs Improvement (1)",1)+IF(L10="Limited (2)",2)+IF(L10="Satisfactory (3)",3)+IF(L10="Good (4)",4)+IF(L10="Excellent (5)",5)+IF(P10="Needs Improvement (1)",1)+IF(P10="Limited (2)",2)+IF(P10="Satisfactory (3)",3)+IF(P10="Good (4)",4)+IF(P10="Excellent (5)",5) -> 0
A11: =STLST!B14 -> 9 | B11: =STLST!C14 -> 0 | C11: =STLST!D14 -> 0 | T11: =IF(D11="Needs Improvement (1)",1)+IF(D11="Limited (2)",2)+IF(D11="Satisfactory (3)",3)+IF(D11="Good (4)",4)+IF(D11="Excellent (5)",5)+IF(H11="Needs Improvement (1)",1)+IF(H11="Limited (2)",2)+IF(H11="Satisfactory (3)",3)+IF(H11="Good (4)",4)+IF(H11="Excellent (5)",5)+IF(L11="Needs Improvement (1)",1)+IF(L11="Limited (2)",2)+IF(L11="Satisfactory (3)",3)+IF(L11="Good (4)",4)+IF(L11="Excellent (5)",5)+IF(P11="Needs Improvement (1)",1)+IF(P11="Limited (2)",2)+IF(P11="Satisfactory (3)",3)+IF(P11="Good (4)",4)+IF(P11="Excellent (5)",5) -> 0
A12: =STLST!B15 -> 10 | B12: =STLST!C15 -> 0 | C12: =STLST!D15 -> 0 | T12: =IF(D12="Needs Improvement (1)",1)+IF(D12="Limited (2)",2)+IF(D12="Satisfactory (3)",3)+IF(D12="Good (4)",4)+IF(D12="Excellent (5)",5)+IF(H12="Needs Improvement (1)",1)+IF(H12="Limited (2)",2)+IF(H12="Satisfactory (3)",3)+IF(H12="Good (4)",4)+IF(H12="Excellent (5)",5)+IF(L12="Needs Improvement (1)",1)+IF(L12="Limited (2)",2)+IF(L12="Satisfactory (3)",3)+IF(L12="Good (4)",4)+IF(L12="Excellent (5)",5)+IF(P12="Needs Improvement (1)",1)+IF(P12="Limited (2)",2)+IF(P12="Satisfactory (3)",3)+IF(P12="Good (4)",4)+IF(P12="Excellent (5)",5) -> 0
A13: =STLST!B16 -> 11 | B13: =STLST!C16 -> 0 | C13: =STLST!D16 -> 0 | T13: =IF(D13="Needs Improvement (1)",1)+IF(D13="Limited (2)",2)+IF(D13="Satisfactory (3)",3)+IF(D13="Good (4)",4)+IF(D13="Excellent (5)",5)+IF(H13="Needs Improvement (1)",1)+IF(H13="Limited (2)",2)+IF(H13="Satisfactory (3)",3)+IF(H13="Good (4)",4)+IF(H13="Excellent (5)",5)+IF(L13="Needs Improvement (1)",1)+IF(L13="Limited (2)",2)+IF(L13="Satisfactory (3)",3)+IF(L13="Good (4)",4)+IF(L13="Excellent (5)",5)+IF(P13="Needs Improvement (1)",1)+IF(P13="Limited (2)",2)+IF(P13="Satisfactory (3)",3)+IF(P13="Good (4)",4)+IF(P13="Excellent (5)",5) -> 0
A14: =STLST!B17 -> 12 | B14: =STLST!C17 -> 0 | C14: =STLST!D17 -> 0 | T14: =IF(D14="Needs Improvement (1)",1)+IF(D14="Limited (2)",2)+IF(D14="Satisfactory (3)",3)+IF(D14="Good (4)",4)+IF(D14="Excellent (5)",5)+IF(H14="Needs Improvement (1)",1)+IF(H14="Limited (2)",2)+IF(H14="Satisfactory (3)",3)+IF(H14="Good (4)",4)+IF(H14="Excellent (5)",5)+IF(L14="Needs Improvement (1)",1)+IF(L14="Limited (2)",2)+IF(L14="Satisfactory (3)",3)+IF(L14="Good (4)",4)+IF(L14="Excellent (5)",5)+IF(P14="Needs Improvement (1)",1)+IF(P14="Limited (2)",2)+IF(P14="Satisfactory (3)",3)+IF(P14="Good (4)",4)+IF(P14="Excellent (5)",5) -> 0
... A37: =STLST!B40 -> 35 | B37: =STLST!C40 -> 0 | C37: =STLST!D40 -> 0 | T37: =IF(D37="Needs Improvement (1)",1)+IF(D37="Limited (2)",2)+IF(D37="Satisfactory (3)",3)+IF(D37="Good (4)",4)+IF(D37="Excellent (5)",5)+IF(H37="Needs Improvement (1)",1)+IF(H37="Limited (2)",2)+IF(H37="Satisfactory (3)",3)+IF(H37="Good (4)",4)+IF(H37="Excellent (5)",5)+IF(L37="Needs Improvement (1)",1)+IF(L37="Limited (2)",2)+IF(L37="Satisfactory (3)",3)+IF(L37="Good (4)",4)+IF(L37="Excellent (5)",5)+IF(P37="Needs Improvement (1)",1)+IF(P37="Limited (2)",2)+IF(P37="Satisfactory (3)",3)+IF(P37="Good (4)",4)+IF(P37="Excellent (5)",5) -> 0
F39: Scoring Guide
F40: 1 20-18 points: Exceeds Expectations. The student demonstrates strong vocabulary knowledge and recognition.
F41: 2 17-15 points: Meets Expectations. The student is comfortable with familiar vocabulary and shows a good understanding of the context.
F42: 3 14-10 points: Approaching Expectations. The student recognises basic vocabulary but requires support with unfamiliar words.
F43: 4 9-7 points: Needs Development. The student is beginning to recognise vocabulary but relies heavily on support.
F44: 5 6-4 points: Beginning Stage. The student needs significant assistance in all areas of vocabulary recognition and usage.

Sheet 4- VCBRCRD
C1: CLASS : | D1: =STLST!D2 -> 9/… | E1: THEME : | F1: =STLST!D4 -> 0 | H1: CHECKLIST FOR VOCABULARY RECORDING
D2: 1. Word Selection (1 pt. each) | F2: 2. Definition Accuracy (1 pt. each) | H2: 3. Example Sentence Usage (1 pt. each) | J2: 4. Organisation and Presentation (1 pt. each) | L2: 5. Effort and Completeness (1 pt. each)
B3: SCHOOL NUMBER | C3: NAME SURNAME | D3: Includes target vocabulary words with their antonyms and synonyms related to the content objective | E3: Selects a minimum number of words required for the assignment (e.g. 10 words) | F3: Provides simple, accurate definitions, antonyms, and synonyms for each word | G3: Writes the definitions in her/his own words where possible | H3: Includes a simple example sentence for each word | I3: Uses the word correctly in the context of the example sentence | J3: Organises the words alphabetically or by theme for easy reference | K3: Uses a clear layout (e.g. separate entry for each word with definition and example) | L3: Completes the dictionary with all required elements (e.g. words, definitions, examples) | M3: Shows effort in creating neat and visually organised entries | N3: TOTAL SCORE
A4: =STLST!B6 -> 1 | B4: =STLST!C6 -> 0 | C4: =STLST!D6 -> 0 | N4: =IF(D4="Yes (1pt)",1)+IF(E4="Yes (1pt)",1)+IF(F4="Yes (1pt)",1)+IF(G4="Yes (1pt)",1)+IF(H4="Yes (1pt)",1)+IF(I4="Yes (1pt)",1)+IF(J4="Yes (1pt)",1)+IF(K4="Yes (1pt)",1)+IF(L4="Yes (1pt)",1)+IF(M4="Yes (1pt)",1) -> 0
A5: =STLST!B7 -> 2 | B5: =STLST!C7 -> 0 | C5: =STLST!D7 -> 0 | N5: =IF(D5="Yes (1pt)",1)+IF(E5="Yes (1pt)",1)+IF(F5="Yes (1pt)",1)+IF(G5="Yes (1pt)",1)+IF(H5="Yes (1pt)",1)+IF(I5="Yes (1pt)",1)+IF(J5="Yes (1pt)",1)+IF(K5="Yes (1pt)",1)+IF(L5="Yes (1pt)",1)+IF(M5="Yes (1pt)",1) -> 0
A6: =STLST!B8 -> 3 | B6: =STLST!C8 -> 0 | C6: =STLST!D8 -> 0 | N6: =IF(D6="Yes (1pt)",1)+IF(E6="Yes (1pt)",1)+IF(F6="Yes (1pt)",1)+IF(G6="Yes (1pt)",1)+IF(H6="Yes (1pt)",1)+IF(I6="Yes (1pt)",1)+IF(J6="Yes (1pt)",1)+IF(K6="Yes (1pt)",1)+IF(L6="Yes (1pt)",1)+IF(M6="Yes (1pt)",1) -> 0
A7: =STLST!B9 -> 4 | B7: =STLST!C9 -> 0 | C7: =STLST!D9 -> 0 | N7: =IF(D7="Yes (1pt)",1)+IF(E7="Yes (1pt)",1)+IF(F7="Yes (1pt)",1)+IF(G7="Yes (1pt)",1)+IF(H7="Yes (1pt)",1)+IF(I7="Yes (1pt)",1)+IF(J7="Yes (1pt)",1)+IF(K7="Yes (1pt)",1)+IF(L7="Yes (1pt)",1)+IF(M7="Yes (1pt)",1) -> 0
A8: =STLST!B10 -> 5 | B8: =STLST!C10 -> 0 | C8: =STLST!D10 -> 0 | N8: =IF(D8="Yes (1pt)",1)+IF(E8="Yes (1pt)",1)+IF(F8="Yes (1pt)",1)+IF(G8="Yes (1pt)",1)+IF(H8="Yes (1pt)",1)+IF(I8="Yes (1pt)",1)+IF(J8="Yes (1pt)",1)+IF(K8="Yes (1pt)",1)+IF(L8="Yes (1pt)",1)+IF(M8="Yes (1pt)",1) -> 0
A9: =STLST!B11 -> 6 | B9: =STLST!C11 -> 0 | C9: =STLST!D11 -> 0 | N9: =IF(D9="Yes (1pt)",1)+IF(E9="Yes (1pt)",1)+IF(F9="Yes (1pt)",1)+IF(G9="Yes (1pt)",1)+IF(H9="Yes (1pt)",1)+IF(I9="Yes (1pt)",1)+IF(J9="Yes (1pt)",1)+IF(K9="Yes (1pt)",1)+IF(L9="Yes (1pt)",1)+IF(M9="Yes (1pt)",1) -> 0
A10: =STLST!B12 -> 7 | B10: =STLST!C12 -> 0 | C10: =STLST!D12 -> 0 | N10: =IF(D10="Yes (1pt)",1)+IF(E10="Yes (1pt)",1)+IF(F10="Yes (1pt)",1)+IF(G10="Yes (1pt)",1)+IF(H10="Yes (1pt)",1)+IF(I10="Yes (1pt)",1)+IF(J10="Yes (1pt)",1)+IF(K10="Yes (1pt)",1)+IF(L10="Yes (1pt)",1)+IF(M10="Yes (1pt)",1) -> 0
A11: =STLST!B13 -> 8 | B11: =STLST!C13 -> 0 | C11: =STLST!D13 -> 0 | N11: =IF(D11="Yes (1pt)",1)+IF(E11="Yes (1pt)",1)+IF(F11="Yes (1pt)",1)+IF(G11="Yes (1pt)",1)+IF(H11="Yes (1pt)",1)+IF(I11="Yes (1pt)",1)+IF(J11="Yes (1pt)",1)+IF(K11="Yes (1pt)",1)+IF(L11="Yes (1pt)",1)+IF(M11="Yes (1pt)",1) -> 0
A12: =STLST!B14 -> 9 | B12: =STLST!C14 -> 0 | C12: =STLST!D14 -> 0 | N12: =IF(D12="Yes (1pt)",1)+IF(E12="Yes (1pt)",1)+IF(F12="Yes (1pt)",1)+IF(G12="Yes (1pt)",1)+IF(H12="Yes (1pt)",1)+IF(I12="Yes (1pt)",1)+IF(J12="Yes (1pt)",1)+IF(K12="Yes (1pt)",1)+IF(L12="Yes (1pt)",1)+IF(M12="Yes (1pt)",1) -> 0
A13: =STLST!B15 -> 10 | B13: =STLST!C15 -> 0 | C13: =STLST!D15 -> 0 | N13: =IF(D13="Yes (1pt)",1)+IF(E13="Yes (1pt)",1)+IF(F13="Yes (1pt)",1)+IF(G13="Yes (1pt)",1)+IF(H13="Yes (1pt)",1)+IF(I13="Yes (1pt)",1)+IF(J13="Yes (1pt)",1)+IF(K13="Yes (1pt)",1)+IF(L13="Yes (1pt)",1)+IF(M13="Yes (1pt)",1) -> 0
A14: =STLST!B16 -> 11 | B14: =STLST!C16 -> 0 | C14: =STLST!D16 -> 0 | N14: =IF(D14="Yes (1pt)",1)+IF(E14="Yes (1pt)",1)+IF(F14="Yes (1pt)",1)+IF(G14="Yes (1pt)",1)+IF(H14="Yes (1pt)",1)+IF(I14="Yes (1pt)",1)+IF(J14="Yes (1pt)",1)+IF(K14="Yes (1pt)",1)+IF(L14="Yes (1pt)",1)+IF(M14="Yes (1pt)",1) -> 0
A15: =STLST!B17 -> 12 | B15: =STLST!C17 -> 0 | C15: =STLST!D17 -> 0 | N15: =IF(D15="Yes (1pt)",1)+IF(E15="Yes (1pt)",1)+IF(F15="Yes (1pt)",1)+IF(G15="Yes (1pt)",1)+IF(H15="Yes (1pt)",1)+IF(I15="Yes (1pt)",1)+IF(J15="Yes (1pt)",1)+IF(K15="Yes (1pt)",1)+IF(L15="Yes (1pt)",1)+IF(M15="Yes (1pt)",1) -> 0
... A38: =STLST!B40 -> 35 | B38: =STLST!C40 -> 0 | C38: =STLST!D40 -> 0 | N38: =IF(D38="Yes (1pt)",1)+IF(E38="Yes (1pt)",1)+IF(F38="Yes (1pt)",1)+IF(G38="Yes (1pt)",1)+IF(H38="Yes (1pt)",1)+IF(I38="Yes (1pt)",1)+IF(J38="Yes (1pt)",1)+IF(K38="Yes (1pt)",1)+IF(L38="Yes (1pt)",1)+IF(M38="Yes (1pt)",1) -> 0
D39: Scoring Guide
D40: • 10-9 Yes marks: Excellent. The student has met all or nearly all expectations and has created a thorough, well-organised dictionary.
D41: • 8-7 Yes marks: Good. The student meets most expectations with only minor areas for improvement. | L41: =STLST!D3 -> 0
D42: • 6-4 Yes marks: Satisfactory. The student meets some expectations but needs improvement in organisation, definitions, or effort. | L42: TEACHER OF ENGLISH
D43: • 3-2 Yes marks: Limited. The student requires significant guidance to complete the dictionary effectively.
D44: • 1-0 Yes marks: Needs Improvement. The student has not met the expectations.

Sheet 5-GRMMR
B1: THEME | C1: =STLST!D4 -> 0 | E1: CLASS | F1: =STLST!D2 -> 9/… | I1: RATING SCALE FOR GRAMMAR
B2: SCHOOL NUMBER | C2: NAME SURNAME | D2: The rules of the target grammar structure are implemented. | E2: The meaning of the sentences is clear and meaningful. | F2: The different forms of the target grammar structure are implemented. | G2: The target grammar structure is linked with the previous grammar structures. | H2: Sentences are natural and fluent. | I2: Comments | T2: TOTAL SCORE
A3: =STLST!B6 -> 1 | B3: =STLST!C6 -> 0 | C3: =STLST!D6 -> 0 | T3: =IF(D3="Needs Improvement (1)",1)+IF(D3="Limited (2)",2)+IF(D3="Satisfactory (3)",3)+IF(D3="Good (4)",4)+IF(D3="Excellent (5)",5)+IF(E3="Needs Improvement (1)",1)+IF(E3="Limited (2)",2)+IF(E3="Satisfactory (3)",3)+IF(E3="Good (4)",4)+IF(E3="Excellent (5)",5)+IF(F3="Needs Improvement (1)",1)+IF(F3="Limited (2)",2)+IF(F3="Satisfactory (3)",3)+IF(F3="Good (4)",4)+IF(F3="Excellent (5)",5)+IF(G3="Needs Improvement (1)",1)+IF(G3="Limited (2)",2)+IF(G3="Satisfactory (3)",3)+IF(G3="Good (4)",4)+IF(G3="Excellent (5)",5)+IF(H3="Needs Improvement (1)",1)+IF(H3="Limited (2)",2)+IF(H3="Satisfactory (3)",3)+IF(H3="Good (4)",4)+IF(H3="Excellent (5)",5) -> 0
A4: =STLST!B7 -> 2 | B4: =STLST!C7 -> 0 | C4: =STLST!D7 -> 0 | T4: =IF(D4="Needs Improvement (1)",1)+IF(D4="Limited (2)",2)+IF(D4="Satisfactory (3)",3)+IF(D4="Good (4)",4)+IF(D4="Excellent (5)",5)+IF(E4="Needs Improvement (1)",1)+IF(E4="Limited (2)",2)+IF(E4="Satisfactory (3)",3)+IF(E4="Good (4)",4)+IF(E4="Excellent (5)",5)+IF(F4="Needs Improvement (1)",1)+IF(F4="Limited (2)",2)+IF(F4="Satisfactory (3)",3)+IF(F4="Good (4)",4)+IF(F4="Excellent (5)",5)+IF(G4="Needs Improvement (1)",1)+IF(G4="Limited (2)",2)+IF(G4="Satisfactory (3)",3)+IF(G4="Good (4)",4)+IF(G4="Excellent (5)",5)+IF(H4="Needs Improvement (1)",1)+IF(H4="Limited (2)",2)+IF(H4="Satisfactory (3)",3)+IF(H4="Good (4)",4)+IF(H4="Excellent (5)",5) -> 0
A5: =STLST!B8 -> 3 | B5: =STLST!C8 -> 0 | C5: =STLST!D8 -> 0 | T5: =IF(D5="Needs Improvement (1)",1)+IF(D5="Limited (2)",2)+IF(D5="Satisfactory (3)",3)+IF(D5="Good (4)",4)+IF(D5="Excellent (5)",5)+IF(E5="Needs Improvement (1)",1)+IF(E5="Limited (2)",2)+IF(E5="Satisfactory (3)",3)+IF(E5="Good (4)",4)+IF(E5="Excellent (5)",5)+IF(F5="Needs Improvement (1)",1)+IF(F5="Limited (2)",2)+IF(F5="Satisfactory (3)",3)+IF(F5="Good (4)",4)+IF(F5="Excellent (5)",5)+IF(G5="Needs Improvement (1)",1)+IF(G5="Limited (2)",2)+IF(G5="Satisfactory (3)",3)+IF(G5="Good (4)",4)+IF(G5="Excellent (5)",5)+IF(H5="Needs Improvement (1)",1)+IF(H5="Limited (2)",2)+IF(H5="Satisfactory (3)",3)+IF(H5="Good (4)",4)+IF(H5="Excellent (5)",5) -> 0
A6: =STLST!B9 -> 4 | B6: =STLST!C9 -> 0 | C6: =STLST!D9 -> 0 | T6: =IF(D6="Needs Improvement (1)",1)+IF(D6="Limited (2)",2)+IF(D6="Satisfactory (3)",3)+IF(D6="Good (4)",4)+IF(D6="Excellent (5)",5)+IF(E6="Needs Improvement (1)",1)+IF(E6="Limited (2)",2)+IF(E6="Satisfactory (3)",3)+IF(E6="Good (4)",4)+IF(E6="Excellent (5)",5)+IF(F6="Needs Improvement (1)",1)+IF(F6="Limited (2)",2)+IF(F6="Satisfactory (3)",3)+IF(F6="Good (4)",4)+IF(F6="Excellent (5)",5)+IF(G6="Needs Improvement (1)",1)+IF(G6="Limited (2)",2)+IF(G6="Satisfactory (3)",3)+IF(G6="Good (4)",4)+IF(G6="Excellent (5)",5)+IF(H6="Needs Improvement (1)",1)+IF(H6="Limited (2)",2)+IF(H6="Satisfactory (3)",3)+IF(H6="Good (4)",4)+IF(H6="Excellent (5)",5) -> 0
A7: =STLST!B10 -> 5 | B7: =STLST!C10 -> 0 | C7: =STLST!D10 -> 0 | T7: =IF(D7="Needs Improvement (1)",1)+IF(D7="Limited (2)",2)+IF(D7="Satisfactory (3)",3)+IF(D7="Good (4)",4)+IF(D7="Excellent (5)",5)+IF(E7="Needs Improvement (1)",1)+IF(E7="Limited (2)",2)+IF(E7="Satisfactory (3)",3)+IF(E7="Good (4)",4)+IF(E7="Excellent (5)",5)+IF(F7="Needs Improvement (1)",1)+IF(F7="Limited (2)",2)+IF(F7="Satisfactory (3)",3)+IF(F7="Good (4)",4)+IF(F7="Excellent (5)",5)+IF(G7="Needs Improvement (1)",1)+IF(G7="Limited (2)",2)+IF(G7="Satisfactory (3)",3)+IF(G7="Good (4)",4)+IF(G7="Excellent (5)",5)+IF(H7="Needs Improvement (1)",1)+IF(H7="Limited (2)",2)+IF(H7="Satisfactory (3)",3)+IF(H7="Good (4)",4)+IF(H7="Excellent (5)",5) -> 0
A8: =STLST!B11 -> 6 | B8: =STLST!C11 -> 0 | C8: =STLST!D11 -> 0 | T8: =IF(D8="Needs Improvement (1)",1)+IF(D8="Limited (2)",2)+IF(D8="Satisfactory (3)",3)+IF(D8="Good (4)",4)+IF(D8="Excellent (5)",5)+IF(E8="Needs Improvement (1)",1)+IF(E8="Limited (2)",2)+IF(E8="Satisfactory (3)",3)+IF(E8="Good (4)",4)+IF(E8="Excellent (5)",5)+IF(F8="Needs Improvement (1)",1)+IF(F8="Limited (2)",2)+IF(F8="Satisfactory (3)",3)+IF(F8="Good (4)",4)+IF(F8="Excellent (5)",5)+IF(G8="Needs Improvement (1)",1)+IF(G8="Limited (2)",2)+IF(G8="Satisfactory (3)",3)+IF(G8="Good (4)",4)+IF(G8="Excellent (5)",5)+IF(H8="Needs Improvement (1)",1)+IF(H8="Limited (2)",2)+IF(H8="Satisfactory (3)",3)+IF(H8="Good (4)",4)+IF(H8="Excellent (5)",5) -> 0
A9: =STLST!B12 -> 7 | B9: =STLST!C12 -> 0 | C9: =STLST!D12 -> 0 | T9: =IF(D9="Needs Improvement (1)",1)+IF(D9="Limited (2)",2)+IF(D9="Satisfactory (3)",3)+IF(D9="Good (4)",4)+IF(D9="Excellent (5)",5)+IF(E9="Needs Improvement (1)",1)+IF(E9="Limited (2)",2)+IF(E9="Satisfactory (3)",3)+IF(E9="Good (4)",4)+IF(E9="Excellent (5)",5)+IF(F9="Needs Improvement (1)",1)+IF(F9="Limited (2)",2)+IF(F9="Satisfactory (3)",3)+IF(F9="Good (4)",4)+IF(F9="Excellent (5)",5)+IF(G9="Needs Improvement (1)",1)+IF(G9="Limited (2)",2)+IF(G9="Satisfactory (3)",3)+IF(G9="Good (4)",4)+IF(G9="Excellent (5)",5)+IF(H9="Needs Improvement (1)",1)+IF(H9="Limited (2)",2)+IF(H9="Satisfactory (3)",3)+IF(H9="Good (4)",4)+IF(H9="Excellent (5)",5) -> 0
A10: =STLST!B13 -> 8 | B10: =STLST!C13 -> 0 | C10: =STLST!D13 -> 0 | T10: =IF(D10="Needs Improvement (1)",1)+IF(D10="Limited (2)",2)+IF(D10="Satisfactory (3)",3)+IF(D10="Good (4)",4)+IF(D10="Excellent (5)",5)+IF(E10="Needs Improvement (1)",1)+IF(E10="Limited (2)",2)+IF(E10="Satisfactory (3)",3)+IF(E10="Good (4)",4)+IF(E10="Excellent (5)",5)+IF(F10="Needs Improvement (1)",1)+IF(F10="Limited (2)",2)+IF(F10="Satisfactory (3)",3)+IF(F10="Good (4)",4)+IF(F10="Excellent (5)",5)+IF(G10="Needs Improvement (1)",1)+IF(G10="Limited (2)",2)+IF(G10="Satisfactory (3)",3)+IF(G10="Good (4)",4)+IF(G10="Excellent (5)",5)+IF(H10="Needs Improvement (1)",1)+IF(H10="Limited (2)",2)+IF(H10="Satisfactory (3)",3)+IF(H10="Good (4)",4)+IF(H10="Excellent (5)",5) -> 0
A11: =STLST!B14 -> 9 | B11: =STLST!C14 -> 0 | C11: =STLST!D14 -> 0 | T11: =IF(D11="Needs Improvement (1)",1)+IF(D11="Limited (2)",2)+IF(D11="Satisfactory (3)",3)+IF(D11="Good (4)",4)+IF(D11="Excellent (5)",5)+IF(E11="Needs Improvement (1)",1)+IF(E11="Limited (2)",2)+IF(E11="Satisfactory (3)",3)+IF(E11="Good (4)",4)+IF(E11="Excellent (5)",5)+IF(F11="Needs Improvement (1)",1)+IF(F11="Limited (2)",2)+IF(F11="Satisfactory (3)",3)+IF(F11="Good (4)",4)+IF(F11="Excellent (5)",5)+IF(G11="Needs Improvement (1)",1)+IF(G11="Limited (2)",2)+IF(G11="Satisfactory (3)",3)+IF(G11="Good (4)",4)+IF(G11="Excellent (5)",5)+IF(H11="Needs Improvement (1)",1)+IF(H11="Limited (2)",2)+IF(H11="Satisfactory (3)",3)+IF(H11="Good (4)",4)+IF(H11="Excellent (5)",5) -> 0
A12: =STLST!B15 -> 10 | B12: =STLST!C15 -> 0 | C12: =STLST!D15 -> 0 | T12: =IF(D12="Needs Improvement (1)",1)+IF(D12="Limited (2)",2)+IF(D12="Satisfactory (3)",3)+IF(D12="Good (4)",4)+IF(D12="Excellent (5)",5)+IF(E12="Needs Improvement (1)",1)+IF(E12="Limited (2)",2)+IF(E12="Satisfactory (3)",3)+IF(E12="Good (4)",4)+IF(E12="Excellent (5)",5)+IF(F12="Needs Improvement (1)",1)+IF(F12="Limited (2)",2)+IF(F12="Satisfactory (3)",3)+IF(F12="Good (4)",4)+IF(F12="Excellent (5)",5)+IF(G12="Needs Improvement (1)",1)+IF(G12="Limited (2)",2)+IF(G12="Satisfactory (3)",3)+IF(G12="Good (4)",4)+IF(G12="Excellent (5)",5)+IF(H12="Needs Improvement (1)",1)+IF(H12="Limited (2)",2)+IF(H12="Satisfactory (3)",3)+IF(H12="Good (4)",4)+IF(H12="Excellent (5)",5) -> 0
A13: =STLST!B16 -> 11 | B13: =STLST!C16 -> 0 | C13: =STLST!D16 -> 0 | T13: =IF(D13="Needs Improvement (1)",1)+IF(D13="Limited (2)",2)+IF(D13="Satisfactory (3)",3)+IF(D13="Good (4)",4)+IF(D13="Excellent (5)",5)+IF(E13="Needs Improvement (1)",1)+IF(E13="Limited (2)",2)+IF(E13="Satisfactory (3)",3)+IF(E13="Good (4)",4)+IF(E13="Excellent (5)",5)+IF(F13="Needs Improvement (1)",1)+IF(F13="Limited (2)",2)+IF(F13="Satisfactory (3)",3)+IF(F13="Good (4)",4)+IF(F13="Excellent (5)",5)+IF(G13="Needs Improvement (1)",1)+IF(G13="Limited (2)",2)+IF(G13="Satisfactory (3)",3)+IF(G13="Good (4)",4)+IF(G13="Excellent (5)",5)+IF(H13="Needs Improvement (1)",1)+IF(H13="Limited (2)",2)+IF(H13="Satisfactory (3)",3)+IF(H13="Good (4)",4)+IF(H13="Excellent (5)",5) -> 0
A14: =STLST!B17 -> 12 | B14: =STLST!C17 -> 0 | C14: =STLST!D17 -> 0 | T14: =IF(D14="Needs Improvement (1)",1)+IF(D14="Limited (2)",2)+IF(D14="Satisfactory (3)",3)+IF(D14="Good (4)",4)+IF(D14="Excellent (5)",5)+IF(E14="Needs Improvement (1)",1)+IF(E14="Limited (2)",2)+IF(E14="Satisfactory (3)",3)+IF(E14="Good (4)",4)+IF(E14="Excellent (5)",5)+IF(F14="Needs Improvement (1)",1)+IF(F14="Limited (2)",2)+IF(F14="Satisfactory (3)",3)+IF(F14="Good (4)",4)+IF(F14="Excellent (5)",5)+IF(G14="Needs Improvement (1)",1)+IF(G14="Limited (2)",2)+IF(G14="Satisfactory (3)",3)+IF(G14="Good (4)",4)+IF(G14="Excellent (5)",5)+IF(H14="Needs Improvement (1)",1)+IF(H14="Limited (2)",2)+IF(H14="Satisfactory (3)",3)+IF(H14="Good (4)",4)+IF(H14="Excellent (5)",5) -> 0
... A37: =STLST!B40 -> 35 | B37: =STLST!C40 -> 0 | C37: =STLST!D40 -> 0 | T37: =IF(D37="Needs Improvement (1)",1)+IF(D37="Limited (2)",2)+IF(D37="Satisfactory (3)",3)+IF(D37="Good (4)",4)+IF(D37="Excellent (5)",5)+IF(E37="Needs Improvement (1)",1)+IF(E37="Limited (2)",2)+IF(E37="Satisfactory (3)",3)+IF(E37="Good (4)",4)+IF(E37="Excellent (5)",5)+IF(F37="Needs Improvement (1)",1)+IF(F37="Limited (2)",2)+IF(F37="Satisfactory (3)",3)+IF(F37="Good (4)",4)+IF(F37="Excellent (5)",5)+IF(G37="Needs Improvement (1)",1)+IF(G37="Limited (2)",2)+IF(G37="Satisfactory (3)",3)+IF(G37="Good (4)",4)+IF(G37="Excellent (5)",5)+IF(H37="Needs Improvement (1)",1)+IF(H37="Limited (2)",2)+IF(H37="Satisfactory (3)",3)+IF(H37="Good (4)",4)+IF(H37="Excellent (5)",5) -> 0

Sheet 6-READ
B1: THEME | C1: =STLST!D4 -> 0 | E1: CLASS | F1: =STLST!D2 -> 9/… | H1: READING SKILL RUBRIC
B2: SCHOOL NUMBER | C2: NAME SURNAME | D2: Reading Fluency Needs Improvement (1) Reads with frequent errors and hesitations. Limited (2) Reads slowly; some errors affect comprehension. Satisfactory (3) Reads with pauses; generally understandable. Good (4) Reads smoothly with few errors; good pace and expression. Excellent (5) Reads fluently with excellent pacing, intonation, and minimal errors. | H2: Comprehension Accuracy Needs Improvement (1) Fails to understand main ideas or details; frequent misinterpretations. Limited (2) Understands some basic ideas; misses key details or context. Satisfactory (3) Understands main ideas and some supporting details. Good (4) Accurately comprehends main ideas and most supporting details. Excellent (5) Fully understands and interprets all main ideas and details. | L2: Inference and Interpretation Needs Improvement (1) Struggles to infer meaning; unable to interpret ideas. Limited (2) Occasionally infers meaning but with limited success. Satisfactory (3) Can infer basic meanings and interpret simple ideas. Good (4) Makes logical inferences and interprets messages. Excellent (5) Consistently infers, interprets, and explains deeper meanings. | P2: Critical Thinking Needs Improvement (1) There is no analysis or personal response to text. Limited (2) Limited analysis or drawing conclusions. Satisfactory (3) Some analysis; basic personal interpretation or connection. Good (4) Good analysis with thoughtful insights and connections. Excellent (5) Highly insightful analysis; thoughtful, critical responses. | T2: Paraphrasing and Summarising Needs Improvement (1) Unable to rephrase or summarise the text meaningfully. Limited (2) Attempts paraphrasing but often unclear or incomplete. Satisfactory (3) Basic paraphrasing and summarising with minor inaccuracies. Good (4) Clear and mostly accurate paraphrasing and summarising. Excellent (5) Skillfully rephrases and summarises content with clarity and precision. | X2: Engagement in Reading Act. Needs Improvement (1) Rarely participates or shows interest in reading activities. Limited (2) Minimal participation; engagement is inconsistent. Satisfactory (3) Participates with moderate interest and effort. Good (4) Regular participation and contribution to reading tasks. Excellent (5) Actively participates and enhances group reading activities. | AB2: TOTAL SCORE
A3: =STLST!B6 -> 1 | B3: =STLST!C6 -> 0 | C3: =STLST!D6 -> 0 | AB3: =IF(D3="Needs Improvement (1)",1)+IF(D3="Limited (2)",2)+IF(D3="Satisfactory (3)",3)+IF(D3="Good (4)",4)+IF(D3="Excellent (5)",5)+IF(H3="Needs Improvement (1)",1)+IF(H3="Limited (2)",2)+IF(H3="Satisfactory (3)",3)+IF(H3="Good (4)",4)+IF(H3="Excellent (5)",5)+IF(L3="Needs Improvement (1)",1)+IF(L3="Limited (2)",2)+IF(L3="Satisfactory (3)",3)+IF(L3="Good (4)",4)+IF(L3="Excellent (5)",5)+IF(P3="Needs Improvement (1)",1)+IF(P3="Limited (2)",2)+IF(P3="Satisfactory (3)",3)+IF(P3="Good (4)",4)+IF(P3="Excellent (5)",5)+ IF(T3="Needs Improvement (1)",1)+IF(T3="Limited (2)",2)+IF(T3="Satisfactory (3)",3)+IF(T3="Good (4)",4)+IF(T3="Excellent (5)",5)+IF(X3="Needs Improvement (1)",1)+IF(X3="Limited (2)",2)+IF(X3="Satisfactory (3)",3)+IF(X3="Good (4)",4)+IF(X3="Excellent (5)",5) -> 0
A4: =STLST!B7 -> 2 | B4: =STLST!C7 -> 0 | C4: =STLST!D7 -> 0 | AB4: =IF(D4="Needs Improvement (1)",1)+IF(D4="Limited (2)",2)+IF(D4="Satisfactory (3)",3)+IF(D4="Good (4)",4)+IF(D4="Excellent (5)",5)+IF(H4="Needs Improvement (1)",1)+IF(H4="Limited (2)",2)+IF(H4="Satisfactory (3)",3)+IF(H4="Good (4)",4)+IF(H4="Excellent (5)",5)+IF(L4="Needs Improvement (1)",1)+IF(L4="Limited (2)",2)+IF(L4="Satisfactory (3)",3)+IF(L4="Good (4)",4)+IF(L4="Excellent (5)",5)+IF(P4="Needs Improvement (1)",1)+IF(P4="Limited (2)",2)+IF(P4="Satisfactory (3)",3)+IF(P4="Good (4)",4)+IF(P4="Excellent (5)",5)+ IF(T4="Needs Improvement (1)",1)+IF(T4="Limited (2)",2)+IF(T4="Satisfactory (3)",3)+IF(T4="Good (4)",4)+IF(T4="Excellent (5)",5)+IF(X4="Needs Improvement (1)",1)+IF(X4="Limited (2)",2)+IF(X4="Satisfactory (3)",3)+IF(X4="Good (4)",4)+IF(X4="Excellent (5)",5) -> 0
A5: =STLST!B8 -> 3 | B5: =STLST!C8 -> 0 | C5: =STLST!D8 -> 0 | AB5: =IF(D5="Needs Improvement (1)",1)+IF(D5="Limited (2)",2)+IF(D5="Satisfactory (3)",3)+IF(D5="Good (4)",4)+IF(D5="Excellent (5)",5)+IF(H5="Needs Improvement (1)",1)+IF(H5="Limited (2)",2)+IF(H5="Satisfactory (3)",3)+IF(H5="Good (4)",4)+IF(H5="Excellent (5)",5)+IF(L5="Needs Improvement (1)",1)+IF(L5="Limited (2)",2)+IF(L5="Satisfactory (3)",3)+IF(L5="Good (4)",4)+IF(L5="Excellent (5)",5)+IF(P5="Needs Improvement (1)",1)+IF(P5="Limited (2)",2)+IF(P5="Satisfactory (3)",3)+IF(P5="Good (4)",4)+IF(P5="Excellent (5)",5)+ IF(T5="Needs Improvement (1)",1)+IF(T5="Limited (2)",2)+IF(T5="Satisfactory (3)",3)+IF(T5="Good (4)",4)+IF(T5="Excellent (5)",5)+IF(X5="Needs Improvement (1)",1)+IF(X5="Limited (2)",2)+IF(X5="Satisfactory (3)",3)+IF(X5="Good (4)",4)+IF(X5="Excellent (5)",5) -> 0
A6: =STLST!B9 -> 4 | B6: =STLST!C9 -> 0 | C6: =STLST!D9 -> 0 | AB6: =IF(D6="Needs Improvement (1)",1)+IF(D6="Limited (2)",2)+IF(D6="Satisfactory (3)",3)+IF(D6="Good (4)",4)+IF(D6="Excellent (5)",5)+IF(H6="Needs Improvement (1)",1)+IF(H6="Limited (2)",2)+IF(H6="Satisfactory (3)",3)+IF(H6="Good (4)",4)+IF(H6="Excellent (5)",5)+IF(L6="Needs Improvement (1)",1)+IF(L6="Limited (2)",2)+IF(L6="Satisfactory (3)",3)+IF(L6="Good (4)",4)+IF(L6="Excellent (5)",5)+IF(P6="Needs Improvement (1)",1)+IF(P6="Limited (2)",2)+IF(P6="Satisfactory (3)",3)+IF(P6="Good (4)",4)+IF(P6="Excellent (5)",5)+ IF(T6="Needs Improvement (1)",1)+IF(T6="Limited (2)",2)+IF(T6="Satisfactory (3)",3)+IF(T6="Good (4)",4)+IF(T6="Excellent (5)",5)+IF(X6="Needs Improvement (1)",1)+IF(X6="Limited (2)",2)+IF(X6="Satisfactory (3)",3)+IF(X6="Good (4)",4)+IF(X6="Excellent (5)",5) -> 0
A7: =STLST!B10 -> 5 | B7: =STLST!C10 -> 0 | C7: =STLST!D10 -> 0 | AB7: =IF(D7="Needs Improvement (1)",1)+IF(D7="Limited (2)",2)+IF(D7="Satisfactory (3)",3)+IF(D7="Good (4)",4)+IF(D7="Excellent (5)",5)+IF(H7="Needs Improvement (1)",1)+IF(H7="Limited (2)",2)+IF(H7="Satisfactory (3)",3)+IF(H7="Good (4)",4)+IF(H7="Excellent (5)",5)+IF(L7="Needs Improvement (1)",1)+IF(L7="Limited (2)",2)+IF(L7="Satisfactory (3)",3)+IF(L7="Good (4)",4)+IF(L7="Excellent (5)",5)+IF(P7="Needs Improvement (1)",1)+IF(P7="Limited (2)",2)+IF(P7="Satisfactory (3)",3)+IF(P7="Good (4)",4)+IF(P7="Excellent (5)",5)+ IF(T7="Needs Improvement (1)",1)+IF(T7="Limited (2)",2)+IF(T7="Satisfactory (3)",3)+IF(T7="Good (4)",4)+IF(T7="Excellent (5)",5)+IF(X7="Needs Improvement (1)",1)+IF(X7="Limited (2)",2)+IF(X7="Satisfactory (3)",3)+IF(X7="Good (4)",4)+IF(X7="Excellent (5)",5) -> 0
A8: =STLST!B11 -> 6 | B8: =STLST!C11 -> 0 | C8: =STLST!D11 -> 0 | AB8: =IF(D8="Needs Improvement (1)",1)+IF(D8="Limited (2)",2)+IF(D8="Satisfactory (3)",3)+IF(D8="Good (4)",4)+IF(D8="Excellent (5)",5)+IF(H8="Needs Improvement (1)",1)+IF(H8="Limited (2)",2)+IF(H8="Satisfactory (3)",3)+IF(H8="Good (4)",4)+IF(H8="Excellent (5)",5)+IF(L8="Needs Improvement (1)",1)+IF(L8="Limited (2)",2)+IF(L8="Satisfactory (3)",3)+IF(L8="Good (4)",4)+IF(L8="Excellent (5)",5)+IF(P8="Needs Improvement (1)",1)+IF(P8="Limited (2)",2)+IF(P8="Satisfactory (3)",3)+IF(P8="Good (4)",4)+IF(P8="Excellent (5)",5)+ IF(T8="Needs Improvement (1)",1)+IF(T8="Limited (2)",2)+IF(T8="Satisfactory (3)",3)+IF(T8="Good (4)",4)+IF(T8="Excellent (5)",5)+IF(X8="Needs Improvement (1)",1)+IF(X8="Limited (2)",2)+IF(X8="Satisfactory (3)",3)+IF(X8="Good (4)",4)+IF(X8="Excellent (5)",5) -> 0
A9: =STLST!B12 -> 7 | B9: =STLST!C12 -> 0 | C9: =STLST!D12 -> 0 | AB9: =IF(D9="Needs Improvement (1)",1)+IF(D9="Limited (2)",2)+IF(D9="Satisfactory (3)",3)+IF(D9="Good (4)",4)+IF(D9="Excellent (5)",5)+IF(H9="Needs Improvement (1)",1)+IF(H9="Limited (2)",2)+IF(H9="Satisfactory (3)",3)+IF(H9="Good (4)",4)+IF(H9="Excellent (5)",5)+IF(L9="Needs Improvement (1)",1)+IF(L9="Limited (2)",2)+IF(L9="Satisfactory (3)",3)+IF(L9="Good (4)",4)+IF(L9="Excellent (5)",5)+IF(P9="Needs Improvement (1)",1)+IF(P9="Limited (2)",2)+IF(P9="Satisfactory (3)",3)+IF(P9="Good (4)",4)+IF(P9="Excellent (5)",5)+ IF(T9="Needs Improvement (1)",1)+IF(T9="Limited (2)",2)+IF(T9="Satisfactory (3)",3)+IF(T9="Good (4)",4)+IF(T9="Excellent (5)",5)+IF(X9="Needs Improvement (1)",1)+IF(X9="Limited (2)",2)+IF(X9="Satisfactory (3)",3)+IF(X9="Good (4)",4)+IF(X9="Excellent (5)",5) -> 0
A10: =STLST!B13 -> 8 | B10: =STLST!C13 -> 0 | C10: =STLST!D13 -> 0 | AB10: =IF(D10="Needs Improvement (1)",1)+IF(D10="Limited (2)",2)+IF(D10="Satisfactory (3)",3)+IF(D10="Good (4)",4)+IF(D10="Excellent (5)",5)+IF(H10="Needs Improvement (1)",1)+IF(H10="Limited (2)",2)+IF(H10="Satisfactory (3)",3)+IF(H10="Good (4)",4)+IF(H10="Excellent (5)",5)+IF(L10="Needs Improvement (1)",1)+IF(L10="Limited (2)",2)+IF(L10="Satisfactory (3)",3)+IF(L10="Good (4)",4)+IF(L10="Excellent (5)",5)+IF(P10="Needs Improvement (1)",1)+IF(P10="Limited (2)",2)+IF(P10="Satisfactory (3)",3)+IF(P10="Good (4)",4)+IF(P10="Excellent (5)",5)+ IF(T10="Needs Improvement (1)",1)+IF(T10="Limited (2)",2)+IF(T10="Satisfactory (3)",3)+IF(T10="Good (4)",4)+IF(T10="Excellent (5)",5)+IF(X10="Needs Improvement (1)",1)+IF(X10="Limited (2)",2)+IF(X10="Satisfactory (3)",3)+IF(X10="Good (4)",4)+IF(X10="Excellent (5)",5) -> 0
A11: =STLST!B14 -> 9 | B11: =STLST!C14 -> 0 | C11: =STLST!D14 -> 0 | AB11: =IF(D11="Needs Improvement (1)",1)+IF(D11="Limited (2)",2)+IF(D11="Satisfactory (3)",3)+IF(D11="Good (4)",4)+IF(D11="Excellent (5)",5)+IF(H11="Needs Improvement (1)",1)+IF(H11="Limited (2)",2)+IF(H11="Satisfactory (3)",3)+IF(H11="Good (4)",4)+IF(H11="Excellent (5)",5)+IF(L11="Needs Improvement (1)",1)+IF(L11="Limited (2)",2)+IF(L11="Satisfactory (3)",3)+IF(L11="Good (4)",4)+IF(L11="Excellent (5)",5)+IF(P11="Needs Improvement (1)",1)+IF(P11="Limited (2)",2)+IF(P11="Satisfactory (3)",3)+IF(P11="Good (4)",4)+IF(P11="Excellent (5)",5)+ IF(T11="Needs Improvement (1)",1)+IF(T11="Limited (2)",2)+IF(T11="Satisfactory (3)",3)+IF(T11="Good (4)",4)+IF(T11="Excellent (5)",5)+IF(X11="Needs Improvement (1)",1)+IF(X11="Limited (2)",2)+IF(X11="Satisfactory (3)",3)+IF(X11="Good (4)",4)+IF(X11="Excellent (5)",5) -> 0
A12: =STLST!B15 -> 10 | B12: =STLST!C15 -> 0 | C12: =STLST!D15 -> 0 | AB12: =IF(D12="Needs Improvement (1)",1)+IF(D12="Limited (2)",2)+IF(D12="Satisfactory (3)",3)+IF(D12="Good (4)",4)+IF(D12="Excellent (5)",5)+IF(H12="Needs Improvement (1)",1)+IF(H12="Limited (2)",2)+IF(H12="Satisfactory (3)",3)+IF(H12="Good (4)",4)+IF(H12="Excellent (5)",5)+IF(L12="Needs Improvement (1)",1)+IF(L12="Limited (2)",2)+IF(L12="Satisfactory (3)",3)+IF(L12="Good (4)",4)+IF(L12="Excellent (5)",5)+IF(P12="Needs Improvement (1)",1)+IF(P12="Limited (2)",2)+IF(P12="Satisfactory (3)",3)+IF(P12="Good (4)",4)+IF(P12="Excellent (5)",5)+ IF(T12="Needs Improvement (1)",1)+IF(T12="Limited (2)",2)+IF(T12="Satisfactory (3)",3)+IF(T12="Good (4)",4)+IF(T12="Excellent (5)",5)+IF(X12="Needs Improvement (1)",1)+IF(X12="Limited (2)",2)+IF(X12="Satisfactory (3)",3)+IF(X12="Good (4)",4)+IF(X12="Excellent (5)",5) -> 0
A13: =STLST!B16 -> 11 | B13: =STLST!C16 -> 0 | C13: =STLST!D16 -> 0 | AB13: =IF(D13="Needs Improvement (1)",1)+IF(D13="Limited (2)",2)+IF(D13="Satisfactory (3)",3)+IF(D13="Good (4)",4)+IF(D13="Excellent (5)",5)+IF(H13="Needs Improvement (1)",1)+IF(H13="Limited (2)",2)+IF(H13="Satisfactory (3)",3)+IF(H13="Good (4)",4)+IF(H13="Excellent (5)",5)+IF(L13="Needs Improvement (1)",1)+IF(L13="Limited (2)",2)+IF(L13="Satisfactory (3)",3)+IF(L13="Good (4)",4)+IF(L13="Excellent (5)",5)+IF(P13="Needs Improvement (1)",1)+IF(P13="Limited (2)",2)+IF(P13="Satisfactory (3)",3)+IF(P13="Good (4)",4)+IF(P13="Excellent (5)",5)+ IF(T13="Needs Improvement (1)",1)+IF(T13="Limited (2)",2)+IF(T13="Satisfactory (3)",3)+IF(T13="Good (4)",4)+IF(T13="Excellent (5)",5)+IF(X13="Needs Improvement (1)",1)+IF(X13="Limited (2)",2)+IF(X13="Satisfactory (3)",3)+IF(X13="Good (4)",4)+IF(X13="Excellent (5)",5) -> 0
A14: =STLST!B17 -> 12 | B14: =STLST!C17 -> 0 | C14: =STLST!D17 -> 0 | AB14: =IF(D14="Needs Improvement (1)",1)+IF(D14="Limited (2)",2)+IF(D14="Satisfactory (3)",3)+IF(D14="Good (4)",4)+IF(D14="Excellent (5)",5)+IF(H14="Needs Improvement (1)",1)+IF(H14="Limited (2)",2)+IF(H14="Satisfactory (3)",3)+IF(H14="Good (4)",4)+IF(H14="Excellent (5)",5)+IF(L14="Needs Improvement (1)",1)+IF(L14="Limited (2)",2)+IF(L14="Satisfactory (3)",3)+IF(L14="Good (4)",4)+IF(L14="Excellent (5)",5)+IF(P14="Needs Improvement (1)",1)+IF(P14="Limited (2)",2)+IF(P14="Satisfactory (3)",3)+IF(P14="Good (4)",4)+IF(P14="Excellent (5)",5)+ IF(T14="Needs Improvement (1)",1)+IF(T14="Limited (2)",2)+IF(T14="Satisfactory (3)",3)+IF(T14="Good (4)",4)+IF(T14="Excellent (5)",5)+IF(X14="Needs Improvement (1)",1)+IF(X14="Limited (2)",2)+IF(X14="Satisfactory (3)",3)+IF(X14="Good (4)",4)+IF(X14="Excellent (5)",5) -> 0
... A37: =STLST!B40 -> 35 | B37: =STLST!C40 -> 0 | C37: =STLST!D40 -> 0 | AB37: =IF(D37="Needs Improvement (1)",1)+IF(D37="Limited (2)",2)+IF(D37="Satisfactory (3)",3)+IF(D37="Good (4)",4)+IF(D37="Excellent (5)",5)+IF(H37="Needs Improvement (1)",1)+IF(H37="Limited (2)",2)+IF(H37="Satisfactory (3)",3)+IF(H37="Good (4)",4)+IF(H37="Excellent (5)",5)+IF(L37="Needs Improvement (1)",1)+IF(L37="Limited (2)",2)+IF(L37="Satisfactory (3)",3)+IF(L37="Good (4)",4)+IF(L37="Excellent (5)",5)+IF(P37="Needs Improvement (1)",1)+IF(P37="Limited (2)",2)+IF(P37="Satisfactory (3)",3)+IF(P37="Good (4)",4)+IF(P37="Excellent (5)",5)+ IF(T37="Needs Improvement (1)",1)+IF(T37="Limited (2)",2)+IF(T37="Satisfactory (3)",3)+IF(T37="Good (4)",4)+IF(T37="Excellent (5)",5)+IF(X37="Needs Improvement (1)",1)+IF(X37="Limited (2)",2)+IF(X37="Satisfactory (3)",3)+IF(X37="Good (4)",4)+IF(X37="Excellent (5)",5) -> 0
F39: Scoring Guide
F40: 1 20-18 points: Exceeds Expectations. The student demonstrates strong reading skills.
F41: 2 17-15 points: Meets Expectations. The student reads with a good level of comprehension, fluency, and vocabulary recognition.
F42: 3 14-10 points: Approaching Expectations. The student is developing foundational skills but needs occasional support.
F43: 4 9-7 points: Needs Improvement. The student is beginning to grasp skills but requires consistent support to improve.
F44: 5 6-4 points: Beginning Stage. The student needs significant assistance in all areas to build reading comprehension and fluency.

Sheet 7- SPKNG
C1: CLASS : | D1: =STLST!D2 -> 9/… | F1: THEME : | G1: =STLST!D4 -> 0 | K1: RATING SCALE FOR SPEAKING SKILL
D2: (NEEDS IMPROVEMENT) 1 2 3 4 5 (EXCELLENT)
D3: Rapport with the Audience | G3: Organisation | I3: Delivery | M3: Language Use | P3: Creativity
B4: SCHOOL NUMBER | C4: NAME SURNAME | D4: Demonstrates understanding of the subject. | E4: Answers class questions accurately. | F4: Provides additional relevant details when needed. | G4: The presentation has a clear beginning, middle, and end. | H4: The flow of the ideas is sequenced well. | I4: Speaks with a strong and clear voice. | J4: Maintains eye contact with the audience. | K4: Effectively manages presentation time. | L4: Pronunciation is clear and accurate. | M4: Uses accurate and appropriate grammar. | N4: Uses correct spelling and punctuation in any written materials. | O4: Vocabulary is relevant to the topic. | P4: The presentation is original and interesting. | Q4: Visuals or aids are used effectively to support the presen tation | R4: Visual aids are clear, relevant, and engaging. | S4: TOTAL SCORE
A5: =STLST!B6 -> 1 | B5: =STLST!C6 -> 0 | C5: =STLST!D6 -> 0 | S5: =SUM(D5:R5) -> 0
A6: =STLST!B7 -> 2 | B6: =STLST!C7 -> 0 | C6: =STLST!D7 -> 0 | S6: =SUM(D6:R6) -> 0
A7: =STLST!B8 -> 3 | B7: =STLST!C8 -> 0 | C7: =STLST!D8 -> 0 | S7: =SUM(D7:R7) -> 0
A8: =STLST!B9 -> 4 | B8: =STLST!C9 -> 0 | C8: =STLST!D9 -> 0 | S8: =SUM(D8:R8) -> 0
A9: =STLST!B10 -> 5 | B9: =STLST!C10 -> 0 | C9: =STLST!D10 -> 0 | S9: =SUM(D9:R9) -> 0
A10: =STLST!B11 -> 6 | B10: =STLST!C11 -> 0 | C10: =STLST!D11 -> 0 | S10: =SUM(D10:R10) -> 0
A11: =STLST!B12 -> 7 | B11: =STLST!C12 -> 0 | C11: =STLST!D12 -> 0 | S11: =SUM(D11:R11) -> 0
A12: =STLST!B13 -> 8 | B12: =STLST!C13 -> 0 | C12: =STLST!D13 -> 0 | S12: =SUM(D12:R12) -> 0
A13: =STLST!B14 -> 9 | B13: =STLST!C14 -> 0 | C13: =STLST!D14 -> 0 | S13: =SUM(D13:R13) -> 0
A14: =STLST!B15 -> 10 | B14: =STLST!C15 -> 0 | C14: =STLST!D15 -> 0 | S14: =SUM(D14:R14) -> 0
A15: =STLST!B16 -> 11 | B15: =STLST!C16 -> 0 | C15: =STLST!D16 -> 0 | S15: =SUM(D15:R15) -> 0
A16: =STLST!B17 -> 12 | B16: =STLST!C17 -> 0 | C16: =STLST!D17 -> 0 | S16: =SUM(D16:R16) -> 0
... A39: =STLST!B40 -> 35 | B39: =STLST!C40 -> 0 | C39: =STLST!D40 -> 0 | S39: =SUM(D39:R39) -> 0
P43: =STLST!D3 -> 0
P44: TEACHER OF ENGLISH

Sheet 8-DLGS
C1: CLASS : | D1: =STLST!D2 -> 9/… | F1: THEME : | G1: =STLST!D4 -> 0 | J1: PARTICIPATION AND ENGAGEMENT IN DIALOGUES
D2: (NEEDS IMPROVEMENT) 1 2 3 4 5 (EXCELLENT)
D3: Effective Turn-taking | G3: Attentive Listening | J3: Engaging in Effective and Meaningful Communication | M3: Response Quality | Q3: Concluding the Conversation
